BEGIN:VCALENDAR
VERSION:2.0
PRODID:-//ChamberMaster//Event Calendar 2.0//EN
METHOD:PUBLISH
X-PUBLISHED-TTL:P3D
REFRESH-INTERVAL:P3D
CALSCALE:GREGORIAN
BEGIN:VEVENT
DTSTART:20150515T133000Z
DTEND:20150515T153000Z
X-MICROSOFT-CDO-ALLDAYEVENT:FALSE
SUMMARY:Greater Shelby Chamber - Entrepreneur Roundtable II
DESCRIPTION:Greater Shelby Chamber Entrepreneur Roundtable II\n\n\n\nBuilding on the success of Roundtable I\, the Chamber is pleased to announce a second Entrepreneur Roundtable has been established.\n\n\n\nThe Chamber's Entrepreneur Roundtable program\, sponsored by Business Telephones\, Inc. is part problem-solving\, part information-gathering and contacts building. Participating business owners from non-competing companies meet for a confidential\, peer-to-peer session each month to gain valuable insights into others' successes and achievements\, and learn how to avoid the pitfalls of their mistakes. The Roundtable program is exclusive for the single individual responsible for the direction of the company and with the authority to make final decisions.\n\n\n\nFor additional information on the Chamber's Entrepreneur Roundtable program   or for an application to join either Roundtable I or Roundtable II   please contact Brooke Story at 663-4542 ext 105.
X-ALT-DESC;FMTTYPE=text/html:<strong>Greater Shelby Chamber Entrepreneur Roundtable II</strong><br />\n<br />\nBuilding on the success of Roundtable I\, the Chamber is pleased to announce a second Entrepreneur Roundtable has been established.<br />\n<br />\nThe Chamber&rsquo\;s Entrepreneur Roundtable program\, sponsored by Business Telephones\, Inc. is part problem-solving\, part information-gathering and contacts building. Participating business owners from non-competing companies meet for a confidential\, peer-to-peer session each month to gain valuable insights into others&#39\; successes and achievements\, and learn how to avoid the pitfalls of their mistakes. The Roundtable program is exclusive for the single individual responsible for the direction of the company and with the authority to make final decisions.<br />\n<br />\nFor additional information on the Chamber&rsquo\;s Entrepreneur Roundtable program &ndash\; or for an application to join either Roundtable I or Roundtable II &ndash\; please contact Brooke Story at 663-4542 ext 105.
LOCATION:
UID:e.145.6645
SEQUENCE:3
DTSTAMP:20260422T231028Z
URL:https://business.shelbychamber.org/events/details/greater-shelby-chamber-entrepreneur-roundtable-ii-05-15-2015-6645
END:VEVENT

END:VCALENDAR
