BEGIN:VCALENDAR
VERSION:2.0
PRODID:-//ChamberMaster//Event Calendar 2.0//EN
METHOD:PUBLISH
X-PUBLISHED-TTL:P3D
REFRESH-INTERVAL:P3D
CALSCALE:GREGORIAN
BEGIN:VEVENT
DTSTART:20150107T143000Z
DTEND:20150107T163000Z
X-MICROSOFT-CDO-ALLDAYEVENT:FALSE
SUMMARY:Greater Shelby Chamber - Entrepreneur Rountable II Formation Meeting
DESCRIPTION:Entrepreneur Roundtable II Formation Meeting\n\n\n\nThe Greater Shelby County Chamber of Commerce will be holding an Entrepreneur Roundtable II formation meeting on January 7.  Members interested in the Entrepreneur Roundtable II may contact Brooke Story at 663-4542\, ext. 105 to learn more about the application process and the program.\n\n\n\nThe Entrepreneur Roundtable program is designed to provide hands-on assistance for small business owners.  The Chamber's Entrepreneur Roundtable II is being established with business owners who will meet each month.*\n\n\n\nThe Chamber's Entrepreneur Roundtable program is part problem-solving\, part information-gathering and contacts building. Participating business owners from non-competing companies meet for a confidential\, peer-to-peer forum each month to gain valuable insights into others' successes and achievements\, and learn how to avoid the pitfalls of their mistakes. The Roundtable program is exclusive for the single individual responsible for the direction of the company and with the authority to make final decisions.
X-ALT-DESC;FMTTYPE=text/html:<strong>Entrepreneur Roundtable II Formation Meeting</strong><br />\n<br />\nThe Greater Shelby County Chamber of Commerce will be holding an Entrepreneur Roundtable II formation meeting on January 7.&nbsp\; Members interested in the Entrepreneur Roundtable II may contact <a href="mailto:brooke@shelbychamber.org?subject=Interested%20in%20More%20Information%20about%20Entrepreneur%20Roundtable%20II%20Formation%20Meeting">Brooke Story</a> at 663-4542\, ext. 105 to learn more about the application process and the program.<br />\n<br />\n<span class="cm_editor_fix">The Entrepreneur Roundtable program is designed to provide hands-on assistance for small business owners.&nbsp\; The Chamber&#39\;s Entrepreneur Roundtable II is being established with business owners who will meet each month.*<br />\n<br />\nThe Chamber&#39\;s Entrepreneur Roundtable program is part problem-solving\, part information-gathering and contacts building. Participating business owners from non-competing companies meet for a confidential\, peer-to-peer forum each month to gain valuable insights into others&#39\; successes and achievements\, and learn how to avoid the pitfalls of their mistakes. The Roundtable program is exclusive for the single individual responsible for the direction of the company and with the authority to make final decisions.</span><br />\n&nbsp\;
LOCATION:Contact Brooke Story\, 663-4542\, et. 105
UID:e.145.6566
SEQUENCE:3
DTSTAMP:20260423T050625Z
URL:https://business.shelbychamber.org/events/details/greater-shelby-chamber-entrepreneur-rountable-ii-formation-meeting-01-07-2015-6566
END:VEVENT

END:VCALENDAR
