BEGIN:VCALENDAR
VERSION:2.0
PRODID:-//ChamberMaster//Event Calendar 2.0//EN
METHOD:PUBLISH
X-PUBLISHED-TTL:P3D
REFRESH-INTERVAL:P3D
CALSCALE:GREGORIAN
BEGIN:VEVENT
DTSTART:20150210T140000Z
DTEND:20150210T170000Z
X-MICROSOFT-CDO-ALLDAYEVENT:FALSE
SUMMARY:Greater Shelby Chamber - Entrepreneur & Small Business Mentorship Program
DESCRIPTION:Greater Shelby Chamber - Entrepreneur & Small Business Mentorship Program\n\n\n\nThe Chamber's Entrepreneur & Small Business Mentorship program\, sponsored by Spectrum Business\, is designed to help entrepreneurs and small business owners in a variety of ways.\n\n\n\nTypically the second Tuesday of each month from 8:00AM until 11:00AM\, Michael Smith with the The Great\, The Good and The Gone will be available for a one-on-one confidential meeting with any entrepreneur or small business owner to discuss opportunities\, challenges or any other issue they may be facing.\n\n\n\nAppointments are required so please call Brooke Story\, the Chamber's Director of Business Development & Support at 663-4542\, ext. 105 for availability during that timeframe.  Appointments are usually 45 minutes to one hour in length.
X-ALT-DESC;FMTTYPE=text/html:<strong>Greater Shelby Chamber - Entrepreneur &amp\; Small Business Mentorship Program</strong><br />\n<br />\nThe Chamber&rsquo\;s Entrepreneur &amp\; Small Business Mentorship program\, sponsored by Spectrum Business\, is designed to help entrepreneurs and small business owners in a variety of ways.<br />\n<br />\nTypically the second Tuesday of each month from 8:00AM until 11:00AM\, Michael Smith with the The Great\, The Good and The Gone will be available for a one-on-one confidential meeting with any entrepreneur or small business owner to discuss opportunities\, challenges or any other issue they may be facing.<br />\n<br />\nAppointments are required so please call Brooke Story\, the Chamber&rsquo\;s Director of Business Development &amp\; Support at 663-4542\, ext. 105 for availability during that timeframe.&nbsp\; Appointments are usually 45 minutes to one hour in length.
LOCATION:Greater Shelby County Chamber of Commerce 1301 County Services Drive Pelham\, AL 35124
UID:e.145.7196
SEQUENCE:3
DTSTAMP:20260423T034619Z
URL:https://business.shelbychamber.org/events/details/greater-shelby-chamber-entrepreneur-small-business-mentorship-program-02-10-2015-7196
END:VEVENT

END:VCALENDAR
