BEGIN:VCALENDAR
VERSION:2.0
PRODID:-//ChamberMaster//Event Calendar 2.0//EN
METHOD:PUBLISH
X-PUBLISHED-TTL:P3D
REFRESH-INTERVAL:P3D
CALSCALE:GREGORIAN
BEGIN:VEVENT
DTSTART:20140610T130000Z
DTEND:20140610T160000Z
X-MICROSOFT-CDO-ALLDAYEVENT:FALSE
SUMMARY:Greater Shelby Chamber - Entrepreneur & Small Business Mentorship Program
DESCRIPTION:The Chamber's new Entrepreneur & Small Business Mentorship effort\, sponsored by Charter Business\, begins June 10.  This new program is designed to help entrepreneurs and small business owners in a variety of ways.\n\n\n\nFirst\, from 8:00AM-11:00AM Michael Smith with the The Great\, The Good and The Gone will be available for a one-on-one confidential meeting with any entrepreneur or small business owner to discuss opportunities\, challenges or any other issue they may be facing.  Appointments are required so please call Brooke Story\, the Chamber's Director of Business Development & Support for availability on June 10   or any future second Tuesday of the month during that timeframe.
X-ALT-DESC;FMTTYPE=text/html:The Chamber&rsquo\;s new Entrepreneur &amp\; Small Business Mentorship effort\, sponsored by Charter Business\, begins June 10.&nbsp\; This new program is designed to help entrepreneurs and small business owners in a variety of ways.<br />\n<br />\nFirst\, from 8:00AM-11:00AM Michael Smith with the The Great\, The Good and The Gone will be available for a one-on-one confidential meeting with any entrepreneur or small business owner to discuss opportunities\, challenges or any other issue they may be facing.&nbsp\; Appointments are required so please call Brooke Story\, the Chamber&rsquo\;s Director of Business Development &amp\; Support for availability on June 10 &ndash\; or any future second Tuesday of the month during that timeframe.
LOCATION:Greater Shelby County Chamber of Commerce 1301 County Services Drive\, Pelham\, AL 35124
UID:e.145.5495
SEQUENCE:3
DTSTAMP:20260423T165325Z
URL:https://business.shelbychamber.org/events/details/greater-shelby-chamber-entrepreneur-small-business-mentorship-program-06-10-2014-5495
END:VEVENT

END:VCALENDAR
