BEGIN:VCALENDAR
VERSION:2.0
PRODID:-//ChamberMaster//Event Calendar 2.0//EN
METHOD:PUBLISH
X-PUBLISHED-TTL:P3D
REFRESH-INTERVAL:P3D
CALSCALE:GREGORIAN
BEGIN:VEVENT
DTSTART:20130723T133000Z
DTEND:20130723T153000Z
X-MICROSOFT-CDO-ALLDAYEVENT:FALSE
SUMMARY:Greater Shelby Chamber ~ Existing Business & Industry Tour at A.C. Legg\, Inc.
DESCRIPTION:Industry Tour Set for July 23 at A.C. Legg\, Incorporated\n\n\n\nThe Chamber's Existing Business & Industry Work Group is inviting Chamber members to its next Industry Tour scheduled for July 23 at 8:30AM onsite at A.C. Legg\, Incorporated.  A.C. Legg has enjoyed more than 80 years of success in the food seasoning business.  Their success has been built on Quality\, Consistency\, Innovation\, and Service. The company was founded on these ideals in 1923 and they have been an integral part of our continued growth.\n\n\n\nNOTE:  Industry Tour is limited to 15 participants and an RSVP is required by Friday\, July 19.  Registrants will meet onsite on July 23 and begin the tour at 8:30AM.  If you are interested in touring the A. C. Legg facility\, contact Brooke Story\, Director of Business Development & Support: brooke@shelbychamber.org or 663-4542 or use the Register Online button at top of page.\n\n\n\nWhat is the Existing Business & Industry Work Group?  The Existing Industry & Business Work Group recognizes and supports local industries through tours\, legislative actions\, seminars and other appropriate means. The Work Group organized the annual Industry Appreciation Event held in February. They meet the 2nd Tuesday of each month @ 9:00AM @ Barge\, Waggoner\, Sumner & Cannon\, Inc. If you are interested in serving on this Chamber Work Group\, contact Brooke Story\, Director of Business Support and Development: brooke@shelbychamber.org or 663-4542.
X-ALT-DESC;FMTTYPE=text/html:<span style="font-size:12px\;"><span style="font-family: arial\;"><strong>Industry Tour Set for July 23 at A.C. Legg\, Incorporated</strong><br />\n<br />\nThe Chamber&#39\;s Existing Business &amp\; Industry Work Group is inviting Chamber members to its next Industry Tour scheduled for July 23 at 8:30AM onsite at A.C. Legg\, Incorporated.&nbsp\; A.C. Legg has enjoyed more than 80 years of success in the food seasoning business.&nbsp\; Their success has been built on Quality\, Consistency\, Innovation\, and Service. The company was founded on these ideals in 1923 and they have been an integral part of our continued growth.<br />\n<br />\n<u><strong>NOTE</strong></u>:&nbsp\; Industry Tour is limited to 15 participants and an RSVP is required by Friday\, July 19.&nbsp\; Registrants will meet onsite on July 23 and begin the tour at 8:30AM.&nbsp\; If you are interested in touring the A. C. Legg facility\, contact Brooke Story\, Director of Business Development &amp\; Support: <a href="mailto:brooke@shelbychamber.org?subject=Interested%20in%20Participating%20in%20Industry%20Tour%20on%20July%2023%20at%20A.C.%20Legg%2C%20Inc.">brooke@shelbychamber.org</a> or 663-4542 or use the Register Online button at top of page.<br />\n<br />\n<strong><em>What is the Existing Business &amp\; Industry Work Group?</em></strong>&nbsp\; The Existing Industry &amp\; Business Work Group recognizes and supports local industries through tours\, legislative actions\, seminars and other appropriate means. The Work Group organized the annual Industry Appreciation Event held in February. They meet the 2nd Tuesday of each month @ 9:00AM @ Barge\, Waggoner\, Sumner &amp\; Cannon\, Inc. If you are interested in serving on this Chamber Work Group\, contact Brooke Story\, Director of Business Support and Development: <a href="mailto:brooke@shelbychamber.org?subject=Interested%20in%20Participating%20in%20July%20Industry%20Tour%20at%20AC%20Legg%2C%20Inc.">brooke@shelbychamber.org</a> or 663-4542.</span></span><br />\n
LOCATION:A.C. Legg\, Incorporated 6330 Highway 31 South Calera\, AL 35040-0709
UID:e.145.4667
SEQUENCE:3
DTSTAMP:20260424T103109Z
URL:https://business.shelbychamber.org/events/details/greater-shelby-chamber-existing-business-industry-tour-at-a-c-legg-inc-07-23-2013-4667
END:VEVENT

END:VCALENDAR
