BEGIN:VCALENDAR
VERSION:2.0
PRODID:-//ChamberMaster//Event Calendar 2.0//EN
METHOD:PUBLISH
X-PUBLISHED-TTL:P3D
REFRESH-INTERVAL:P3D
CALSCALE:GREGORIAN
BEGIN:VEVENT
DTSTART:20150514T013000Z
DTEND:20150514T023000Z
X-MICROSOFT-CDO-ALLDAYEVENT:FALSE
SUMMARY:Greater Shelby Chamber - Existing Business & Industry Work Group
DESCRIPTION:Greater Shelby County Chamber of Commerce Existing Business & Industry Work Group\n\n\n\nRecognize and support local industries through tours\, legislative actions\, seminars and other appropriate means. Organize the annual Industry Appreciation Event held in February. Meets 2nd Wednesday of each month @ 8:30AM @ Barge\, Waggoner\, Sumner & Cannon\, Inc. unless the Work Group decides otherwise.\n\n\n\nIf you are interested in serving on the Existing Business & Industry Work Group\, contact Brooke Story\, Director of Business Support and Development 663-4542\, ext. 105.
X-ALT-DESC;FMTTYPE=text/html:<strong>Greater Shelby County Chamber of Commerce Existing Business &amp\; Industry Work Group</strong><br />\n<br />\nRecognize and support local industries through tours\, legislative actions\, seminars and other appropriate means. Organize the annual Industry Appreciation Event held in February. Meets 2nd Wednesday of each month @ 8:30AM @ Barge\, Waggoner\, Sumner &amp\; Cannon\, Inc. unless the Work Group decides otherwise.<br />\n<br />\nIf you are interested in serving on the Existing Business &amp\; Industry Work Group\, contact Brooke Story\, Director of Business Support and Development 663-4542\, ext. 105.
LOCATION:Barge\, Waggoner\, Sumner & Cannon\, Inc. 3535 Grandview Parkway\, Suite 500 Birmingham\, AL 35243
UID:e.145.7340
SEQUENCE:3
DTSTAMP:20260422T230419Z
URL:https://business.shelbychamber.org/events/details/greater-shelby-chamber-existing-business-industry-work-group-05-13-2015-7340
END:VEVENT

END:VCALENDAR
