BEGIN:VCALENDAR
VERSION:2.0
PRODID:-//ChamberMaster//Event Calendar 2.0//EN
METHOD:PUBLISH
X-PUBLISHED-TTL:P3D
REFRESH-INTERVAL:P3D
CALSCALE:GREGORIAN
BEGIN:VEVENT
DTSTART:20160608T133000Z
DTEND:20160608T143000Z
X-MICROSOFT-CDO-ALLDAYEVENT:FALSE
SUMMARY:Greater Shelby Chamber - Existing Business & Industry Work Group
DESCRIPTION:Greater Shelby Chamber Existing Business & Industry Work Group\n\n\n\nRecognize and support local industries through tours\, legislative actions\, seminars and other appropriate means. Organize the annual Industry Appreciation Event.\n\n\n\nIf you are interested in serving on the Existing Business & Industry Work Group contact Payton Thomas\, Manager\, Business Development & Support at 663-4542\, ext. 105.
X-ALT-DESC;FMTTYPE=text/html:<br />\n<strong>Greater Shelby Chamber Existing Business &amp\; Industry Work Group</strong><br />\n<br />\nRecognize and support local industries through tours\, legislative actions\, seminars and other appropriate means. Organize the annual Industry Appreciation Event.<br />\n<br />\n<span class="cm_editor_fix">If you are interested in serving on the Existing Business &amp\; Industry Work Group contact Payton Thomas\, Manager\, Business Development &amp\; Support at 663-4542\, ext. 105.</span>
LOCATION:Determined by Work Group.
UID:e.145.8146
SEQUENCE:3
DTSTAMP:20260422T030355Z
URL:https://business.shelbychamber.org/events/details/greater-shelby-chamber-existing-business-industry-work-group-06-08-2016-8146
END:VEVENT

END:VCALENDAR
