BEGIN:VCALENDAR
VERSION:2.0
PRODID:-//ChamberMaster//Event Calendar 2.0//EN
METHOD:PUBLISH
X-PUBLISHED-TTL:P3D
REFRESH-INTERVAL:P3D
CALSCALE:GREGORIAN
BEGIN:VEVENT
DTSTART:20110503T133000Z
DTEND:20110503T143000Z
X-MICROSOFT-CDO-ALLDAYEVENT:FALSE
SUMMARY:Greater Shelby Chamber ~ Focus Alabaster at Belk
DESCRIPTION:Join us for our Focus Alabaster at Belk\, 300 Colonial Promenade\, Suite 2100\, Alabaster.\n\n\n\nMeet our host: \n\n\n\nWelcome to Belk.\n\n\n\nWe're a department store rooted in timeless values and a rich heritage. We're committed to delivering fashion and today's top brands to the modern Southern woman.\n\n\n\nWe satisfy the modern Southern lifestyle like no one else because we know it like no one else. We aim to be gracious\, friendly\, passionate\, and colorful at every turn. We believe Southern isn't just a place: it's an attitude and state of mind.\n\n\n\nAt Belk\, you'll find today's styles at prices that are just right for our customers. And we take care of our customers in ways that make them feel special.\n\n\n	No cost or RSVP required. Bring plenty of business cards!\n\n	\n\n	City Focus is typically scheduled the first and third Tuesday of each month from 8:30 a.m. until 9:30 a.m. and are informal gatherings designed to network with fellow Chamber members\, and listen as city officials or a special guest\, gives a brief update of developments in that particular area.
X-ALT-DESC;FMTTYPE=text/html:Join us for our Focus&nbsp\;Alabaster at <a href="http://www.belk.com/">Belk</a>\, <a href="http://www.belk.com/store/store_details.jsp?storeid=1%2C408%2C474%2C395%2C187%2C836&amp\;FOLDER%3C%3Efolder_id=2534374302040863&amp\;bmUID=1303493928268">300 Colonial Promenade\, Suite 2100</a>\, Alabaster.<br />\n<br />\nMeet our host:&nbsp\;<br />\n<br />\nWelcome to <a href="http://www.belk.com/">Belk</a>.<br />\n<br />\nWe&rsquo\;re a department store rooted in timeless values and a rich heritage. We&rsquo\;re committed to delivering fashion and today&rsquo\;s top brands to the modern Southern woman.<br />\n<br />\nWe satisfy the modern Southern lifestyle like no one else because we know it like no one else. We aim to be gracious\, friendly\, passionate\, and colorful at every turn. We believe Southern isn&rsquo\;t just a place: it&rsquo\;s an attitude and state of mind.<br />\n<br />\nAt <a href="http://www.belk.com/">Belk</a>\, you&rsquo\;ll find today&rsquo\;s styles at prices that are just right for our customers. And we take care of our customers in ways that make them feel special.<br />\n<p>\n	No cost or RSVP required. <em>Bring plenty of business cards!</em><br />\n	<br />\n	<a href="http://www.shelbychamber.org/default.asp?ID=39">City Focus</a> is typically scheduled the&nbsp\;first and third&nbsp\;Tuesday of each month from 8:30 a.m. until 9:30 a.m. and are informal gatherings designed to network with fellow Chamber members\, and listen as city officials or a special guest\, gives a brief update of developments in that particular area.</p>\n
LOCATION:Belk\, 300 Colonial Promenade\, Suite 2100\, Alabaster\, AL 35007 (205) 685-9034
UID:e.145.3383
SEQUENCE:3
DTSTAMP:20260426T022042Z
URL:https://business.shelbychamber.org/events/details/greater-shelby-chamber-focus-alabaster-at-belk-05-03-2011-3383
END:VEVENT

END:VCALENDAR
