BEGIN:VCALENDAR
VERSION:2.0
PRODID:-//ChamberMaster//Event Calendar 2.0//EN
METHOD:PUBLISH
X-PUBLISHED-TTL:P3D
REFRESH-INTERVAL:P3D
CALSCALE:GREGORIAN
BEGIN:VEVENT
DTSTART:20120207T143000Z
DTEND:20120207T153000Z
X-MICROSOFT-CDO-ALLDAYEVENT:FALSE
SUMMARY:Greater Shelby Chamber ~ Focus Alabaster at Brooklere Pharmacy
DESCRIPTION:Join us for our City Focus Alabaster at Brooklere Pharmacy.\n\n\n\n\n	The Brooklere family has been serving your family since 1968.\n\n	\n		The Brooklere family moved to Forestdale in 1960.\n	\n		First Pharmacy College Hills came under Brooklere ownership in January\, 1968.\n	\n		Brooklere Pharmacy opened in Forestdale in November\, 1968.\n	\n		Adamsville Pharmacy was established in 1961 and came under Brooklere ownership in June\, 1986.\n	\n		Brooklere Pharmacy of Forestdale and Adamsville Pharmacy merged in March\, 2003 to create the current Brooklere's Adamsville Pharmacy.\n	\n		Brooklere Pharmacy opened it's Alabaster location on October 11\, 2010.\n\n\n	Our Mission\n\n	Brooklere Pharmacy will provide quality products and services with care and compassion\, meeting the patients' medical and personal needs in a prompt and professional manner. We will provide patients and caregivers with the knowledge and support to insure optimal outcomes. Brooklere Pharmacy will be a pro-active healthcare advocate in the community while helping those that are unable to help themselves. All of our service will be provided in a professional and pleasant atmosphere for patients\, customers\, and staff.\n\n	No cost or RSVP required. Bring plenty of business cards!\n\n	\n\n	City Focus is typically scheduled the first and third Tuesday of each month from 8:30 a.m. until 9:30 a.m. and are informal gatherings designed to network with fellow Chamber members\, and listen as city officials or a special guest\, gives a brief update of developments in that particular area.
X-ALT-DESC;FMTTYPE=text/html:Join us for our City Focus&nbsp\;Alabaster at <a href="http://www.brooklererx.com/index.html">Brooklere Pharmacy</a>.<br />\n<br />\n<p>\n	The Brooklere family has been serving your family since 1968.</p>\n<ul>\n	<li>\n		The Brooklere family moved to Forestdale in 1960.</li>\n	<li>\n		First Pharmacy College Hills came under Brooklere ownership in January\, 1968.</li>\n	<li>\n		Brooklere Pharmacy opened in Forestdale in November\, 1968.</li>\n	<li>\n		Adamsville Pharmacy was established in 1961 and came under Brooklere ownership in June\, 1986.</li>\n	<li>\n		Brooklere Pharmacy of Forestdale and Adamsville Pharmacy merged in March\, 2003 to create the current Brooklere&rsquo\;s Adamsville Pharmacy.</li>\n	<li>\n		Brooklere Pharmacy opened it&#39\;s Alabaster location on October 11\, 2010.</li>\n</ul>\n<h2>\n	Our Mission</h2>\n<p>\n	Brooklere Pharmacy will provide quality products and services with care and compassion\, meeting the patients&rsquo\; medical and personal needs in a prompt and professional manner. We will provide patients and caregivers with the knowledge and support to insure optimal outcomes. Brooklere Pharmacy will be a pro-active healthcare advocate in the community while helping those that are unable to help themselves. All of our service will be provided in a professional and pleasant atmosphere for patients\, customers\, and staff.</p>\n<p>\n	No cost or RSVP required. <em>Bring plenty of business cards!</em><br />\n	<br />\n	<a href="http://www.shelbychamber.org/default.asp?ID=39">City Focus</a> is typically scheduled the&nbsp\;first and third&nbsp\;Tuesday of each month from 8:30 a.m. until 9:30 a.m. and are informal gatherings designed to network with fellow Chamber members\, and listen as city officials or a special guest\, gives a brief update of developments in that particular area.</p>\n
LOCATION:Brooklere Pharmacy 205 Buck Creek Plaza Alabaster AL 35007 (205) 664-1200
UID:e.145.3901
SEQUENCE:3
DTSTAMP:20260425T120208Z
URL:https://business.shelbychamber.org/events/details/greater-shelby-chamber-focus-alabaster-at-brooklere-pharmacy-02-07-2012-3901
END:VEVENT

END:VCALENDAR
