BEGIN:VCALENDAR
VERSION:2.0
PRODID:-//ChamberMaster//Event Calendar 2.0//EN
METHOD:PUBLISH
X-PUBLISHED-TTL:P3D
REFRESH-INTERVAL:P3D
CALSCALE:GREGORIAN
BEGIN:VEVENT
DTSTART:20111004T133000Z
DTEND:20111004T143000Z
X-MICROSOFT-CDO-ALLDAYEVENT:FALSE
SUMMARY:Greater Shelby Chamber ~ Focus Alabaster at State Farm\, Rogers Agency
DESCRIPTION:Join us for our City Focus Alabaster at State Farm\, Rogers Agency.\n\n\n\nState Farm supports the neighborhoods it serves and where our associates call home. Helping to building safer\, stronger\, and better educated communities."\n\n\n\nCorporations have a responsibility because where are they going to get their workers\, and how can they impact the society that they're trying to serve? They have to be part of that\, and State Farm really embodies that.\n\n\n\nAnybody can spend money on an issue. What we have tried to do is\, how do you use available resources   be it money\, be it people   in driving fundamental change.\n\n\n\nWe have agents and employees across the U.S. and Canada\, in cities and in small towns. The passion that they display towards getting involved in their communities is incredible but I know that it's in our DNA. It's our culture at State Farm.\n\n\n\nState Farm was founded on the belief that helping others is the right thing to do. Annually\, the company contributes up to $60 million to the communities it serves. That funding\, plus the thousands of employee volunteer hours logged each year\, support the company's mission to build safer\, stronger\, and better- educated communities.\n\n\n\nState Farm has been a safety advocate for decades\, decades\, decades.\n\n\n\nAt State Farm\, Rogers Agency\, their mission is to help people manage the risks of everyday life\, recover from the unexpected and realize their dreams.\n\n\n	No cost or RSVP required. Bring plenty of business cards!\n\n	\n\n	City Focus is typically scheduled the first and third Tuesday of each month from 8:30 a.m. until 9:30 a.m. and are informal gatherings designed to network with fellow Chamber members\, and listen as city officials or a special guest\, gives a brief update of developments in that particular area.
X-ALT-DESC;FMTTYPE=text/html:Join us for our City Focus&nbsp\;Alabaster at <a href="http://www.kristarogers.com/">State Farm\, Rogers Agency</a>.<br />\n<br />\nState Farm supports the neighborhoods it serves and where our associates call home. Helping to building safer\, stronger\, and better educated communities.&rdquo\;<br />\n<br />\nCorporations have a responsibility because where are they going to get their workers\, and how can they impact the society that they&rsquo\;re trying to serve? They have to be part of that\, and State Farm really embodies that.<br />\n<br />\nAnybody can spend money on an issue. What we have tried to do is\, how do you use available resources &ndash\; be it money\, be it people &ndash\; in driving fundamental change.<br />\n<br />\nWe have agents and employees across the U.S. and Canada\, in cities and in small towns. The passion that they display towards getting involved in their communities is incredible&hellip\;but I know that it&rsquo\;s in our DNA. It&rsquo\;s our culture at State Farm.<br />\n<br />\nState Farm was founded on the belief that helping others is the right thing to do. Annually\, the company contributes up to $60 million to the communities it serves. That funding\, plus the thousands of employee volunteer hours logged each year\, support the company&rsquo\;s mission to build safer\, stronger\, and better- educated communities.<br />\n<br />\nState Farm has been a safety advocate for decades\, decades\, decades.<br />\n<br />\nAt <a href="http://www.kristarogers.com/">State Farm\, Rogers Agency</a>\, their mission is to help people manage the risks of everyday life\, recover from the unexpected and realize their dreams.<br />\n<p>\n	No cost or RSVP required. <em>Bring plenty of business cards!</em><br />\n	<br />\n	<a href="http://www.shelbychamber.org/default.asp?ID=39">City Focus</a> is typically scheduled the&nbsp\;first and third&nbsp\;Tuesday of each month from 8:30 a.m. until 9:30 a.m. and are informal gatherings designed to network with fellow Chamber members\, and listen as city officials or a special guest\, gives a brief update of developments in that particular area.</p>\n
LOCATION:State Farm\, Rogers Agency 100 Colonial Promenade Pkwy\, Ste 600 Alabaster AL 35007 (205) 663-4466
UID:e.145.3520
SEQUENCE:3
DTSTAMP:20260425T183737Z
URL:https://business.shelbychamber.org/events/details/greater-shelby-chamber-focus-alabaster-at-state-farm-rogers-agency-10-04-2011-3520
END:VEVENT

END:VCALENDAR
