BEGIN:VCALENDAR
VERSION:2.0
PRODID:-//ChamberMaster//Event Calendar 2.0//EN
METHOD:PUBLISH
X-PUBLISHED-TTL:P3D
REFRESH-INTERVAL:P3D
CALSCALE:GREGORIAN
BEGIN:VEVENT
DTSTART:20110816T133000Z
DTEND:20110816T143000Z
X-MICROSOFT-CDO-ALLDAYEVENT:FALSE
SUMMARY:Greater Shelby Chamber ~ Focus Calera at Sav Mor Food Outlet
DESCRIPTION:Join us for our Focus Calera at Sav Mor Food Outlet.\n\n\n\nMeet our host Sav Mor Food Outlet:\n\n\n\nSav Mor has been a staple of the Calera downtown for over half a century. We strive to provide our customers with the best quality merchandise at the lowest possible prices. Our promise of "Cost plus 10%" has been a winning formula for both our business and your pocketbook. If you haven't visited the store in a while come check out our new look.\n\n\n\nFocus events are typically scheduled the first and third Tuesday of each month from 8:30 a.m. until 9:30 a.m. and are informal gatherings designed to network with fellow Chamber members\, and listen as city officials or a special guest\, gives a brief update of developments in that particular area.
X-ALT-DESC;FMTTYPE=text/html:Join us for our Focus <a href="http://www.cityofcalera.org/">Calera</a> at <a href="http://www.savmorcalera.com/">Sav Mor Food Outlet</a>.<br />\n<br />\nMeet our host <a href="http://www.savmorcalera.com/">Sav Mor Food Outlet</a>:<br />\n<br />\n<a href="http://www.savmorcalera.com/">Sav Mor</a> has been a staple of the <a href="http://www.cityofcalera.org/">Calera</a> downtown for over half a century. We strive to provide our customers with the best quality merchandise at the lowest possible prices. Our promise of &quot\;Cost plus 10%&quot\; has been a winning formula for both our business and your pocketbook. If you haven&#39\;t visited the store in a while come check out our new look.<br />\n<br />\nFocus events are typically scheduled the&nbsp\;first and third&nbsp\;Tuesday of each month from 8:30 a.m. until 9:30 a.m. and are informal gatherings designed to network with fellow Chamber members\, and listen as city officials or a special guest\, gives a brief update of developments in that particular area.
LOCATION:Sav Mor Food Outlet 11028 Highway 25 Calera AL 35040 (205) 668-2315
UID:e.145.3448
SEQUENCE:3
DTSTAMP:20260425T215349Z
URL:https://business.shelbychamber.org/events/details/greater-shelby-chamber-focus-calera-at-sav-mor-food-outlet-08-16-2011-3448
END:VEVENT

END:VCALENDAR
