BEGIN:VCALENDAR
VERSION:2.0
PRODID:-//ChamberMaster//Event Calendar 2.0//EN
METHOD:PUBLISH
X-PUBLISHED-TTL:P3D
REFRESH-INTERVAL:P3D
CALSCALE:GREGORIAN
BEGIN:VEVENT
DTSTART:20120221T143000Z
DTEND:20120221T153000Z
X-MICROSOFT-CDO-ALLDAYEVENT:FALSE
SUMMARY:Greater Shelby Chamber ~ Focus Calera at Victory GMC Trucks
DESCRIPTION:Join us for our Focus Calera at Victory GMC Trucks.\n\n\n\nLearn more about our host Victory GMC Trucks:\n\n\n\nIt's simple: we are in business to sell vehicles\, parts and service. We exist because customers trust us and buy our products. If we decide to settle for anything less than pleasing our customers - we lose the trust we have worked hard to earn and rish losing our business.\n\n\n\nWe will tell you the truth. We will work hard for you. We don't always get it right\, but we usually do. It only makes sense for us to treat our customers fairly and we promise to do that.\n\n\n\nIt is our desire to truly be different than all the traditional dealerships. We want you to trust us so much that you and your family will be a Victory customer for life.\n\n\n\nFocus events are typically scheduled the first and third Tuesday of each month from 8:30 a.m. until 9:30 a.m. and are informal gatherings designed to network with fellow Chamber members\, and listen as city officials or a special guest\, gives a brief update of developments in that particular area.
X-ALT-DESC;FMTTYPE=text/html:Join us for our Focus <a href="http://www.cityofcalera.org/">Calera</a> at <a href="http://www.victorygm.com/HomePage">Victory GMC Trucks</a>.<br />\n<br />\nLearn more about our host <a href="http://www.victorygm.com/HomePage">Victory GMC Trucks</a>:<br />\n<br />\nIt&#39\;s simple: we are in business to sell vehicles\, parts and service. We exist because customers trust us and buy our products. If we decide to settle for anything less than pleasing our customers - we lose the trust we have worked hard to earn and rish losing our business.<br />\n<br />\nWe will tell you the truth. We will work hard for you. We don&#39\;t always get it right\, but we usually do. It only makes sense for us to treat our customers fairly and we promise to do that.<br />\n<br />\nIt is our desire to truly be different than all the traditional dealerships. We want you to trust us so much that you and your family will be a Victory customer for life.<br />\n<br />\nFocus events are typically scheduled the&nbsp\;first and third&nbsp\;Tuesday of each month from 8:30 a.m. until 9:30 a.m. and are informal gatherings designed to network with fellow Chamber members\, and listen as city officials or a special guest\, gives a brief update of developments in that particular area.
LOCATION:Victory GMC Trucks 1150 George Roy Parkway Calera AL 35040 (205) 664-0046
UID:e.145.3923
SEQUENCE:3
DTSTAMP:20260425T120157Z
URL:https://business.shelbychamber.org/events/details/greater-shelby-chamber-focus-calera-at-victory-gmc-trucks-02-21-2012-3923
END:VEVENT

END:VCALENDAR
