BEGIN:VCALENDAR
VERSION:2.0
PRODID:-//ChamberMaster//Event Calendar 2.0//EN
METHOD:PUBLISH
X-PUBLISHED-TTL:P3D
REFRESH-INTERVAL:P3D
CALSCALE:GREGORIAN
BEGIN:VEVENT
DTSTART:20110802T133000Z
DTEND:20110802T143000Z
X-MICROSOFT-CDO-ALLDAYEVENT:FALSE
SUMMARY:Greater Shelby Chamber ~ Focus Chelsea at Chelsea City Hall
DESCRIPTION:Join us for our Focus Chelsea at Chelsea City Hall.  Click here to take a virtual tour  of Chelsea City Hall.\n\n\n\nChelsea really is all about family.  Chelsea was ranked the number one city for families in the entire state of Alabama. With it's unique neighborhood developments\, quality schools and business community\, Chelsea stands out as one of Shelby County's most desirable cities.  Join us as Mayor Earl Niven provides an update on all the current happenings in Chelsea.\n\n\n\nNo cost or RSVP required. Bring plenty of business cards!\n\n\n\nFocus Meetings are typically scheduled the first and third Tuesday of each month from 8:30 a.m. until 9:30 a.m. and are informal gatherings designed to network with fellow Chamber members\, and listen as city officials or a special guest\, gives a brief update of developments in that particular area.
X-ALT-DESC;FMTTYPE=text/html:Join us for our Focus&nbsp\;<a href="http://www.cityofchelsea.com/index.html">Chelsea</a> at Chelsea City Hall.&nbsp\; <a href="http://www.alabama360.com/chelsea/tw_chelsea.html">Click here to take a virtual tour&nbsp\; of Chelsea City Hall</a>.<br />\n<br />\n<a href="http://www.cityofchelsea.com/index.html">Chelsea</a> really is all about family.&nbsp\; <a href="http://www.cityofchelsea.com/index.html">Chelsea</a> was ranked the number one city for families in the entire state of Alabama. With it&rsquo\;s unique neighborhood developments\, quality schools and business community\, <a href="http://www.cityofchelsea.com/index.html">Chelsea</a> stands out as one of Shelby County&rsquo\;s most desirable cities.&nbsp\; Join us as <a href="http://www.vismediagroup.com/chelsea/earl_intro.htm">Mayor Earl Niven</a> provides an update on all the current happenings in <a href="http://www.cityofchelsea.com/index.html">Chelsea</a>.<br />\n<br />\nNo cost or RSVP required. Bring plenty of business cards!<br />\n<br />\n<a href="http://www.shelbychamber.org/default.asp?ID=39">Focus Meetings</a> are typically scheduled the first and third Tuesday of each month from 8:30 a.m. until 9:30 a.m. and are informal gatherings designed to network with fellow Chamber members\, and listen as city officials or a special guest\, gives a brief update of developments in that particular area. 
LOCATION:Chelsea City Hall 11611 Chelsea Rd. Chelsea\, AL 35043 (205) 678-8455
UID:e.145.3446
SEQUENCE:3
DTSTAMP:20260425T215653Z
URL:https://business.shelbychamber.org/events/details/greater-shelby-chamber-focus-chelsea-at-chelsea-city-hall-08-02-2011-3446
END:VEVENT

END:VCALENDAR
