BEGIN:VCALENDAR
VERSION:2.0
PRODID:-//ChamberMaster//Event Calendar 2.0//EN
METHOD:PUBLISH
X-PUBLISHED-TTL:P3D
REFRESH-INTERVAL:P3D
CALSCALE:GREGORIAN
BEGIN:VEVENT
DTSTART:20120117T143000Z
DTEND:20120117T153000Z
X-MICROSOFT-CDO-ALLDAYEVENT:FALSE
SUMMARY:Greater Shelby Chamber ~ Focus Chelsea at Southern Pines Chiropractic Center
DESCRIPTION:Join us for our Focus Chelsea at Southern Pines Chiropractic Center @ Mt Laurel.\n\n\n\nSouthern Pines Chiropractic Center @ Mt. Laurel uses proven methods and your personal goals to determine the best way to create a plan to get you the results you expect. Then we regularly re-evaluate your progress using those same methods to measure your outcomes and fine-tune our recommendations.\n\n\n\nUsing these objective tests gives us a common context in the conversation about your health. Read more:  Southern Pines Chiropractic Center.\n\n\n\nNo cost or RSVP required. Bring plenty of business cards!\n\n\n\nFocus Meetings are typically scheduled the first and third Tuesday of each month from 8:30 a.m. until 9:30 a.m. and are informal gatherings designed to network with fellow Chamber members\, and listen as city officials or a special guest\, gives a brief update of developments in that particular area.
X-ALT-DESC;FMTTYPE=text/html:Join us for our Focus&nbsp\;<a href="http://www.cityofchelsea.com/index.html">Chelsea</a> at <a href="http://www.bamachiro.com">Southern Pines Chiropractic Center</a> @ Mt Laurel.<br />\n<br />\n<a href="http://www.bamachiro.com">Southern Pines Chiropractic Center</a> @ Mt. Laurel uses proven methods and your personal goals to determine the best way to create a plan to get you the results you expect. Then we regularly re-evaluate your progress using those same methods to measure your outcomes and fine-tune our recommendations.<br />\n<br />\nUsing these objective tests gives us a common context in the conversation about your health. Read more:&nbsp\; <a href="http://www.bamachiro.com">Southern Pines Chiropractic Center</a>.<br />\n<br />\nNo cost or RSVP required. Bring plenty of business cards!<br />\n<br />\n<a href="http://www.shelbychamber.org/default.asp?ID=39">Focus Meetings</a> are typically scheduled the first and third Tuesday of each month from 8:30 a.m. until 9:30 a.m. and are informal gatherings designed to network with fellow Chamber members\, and listen as city officials or a special guest\, gives a brief update of developments in that particular area. 
LOCATION:Southern Pines Chiropractic Center at Mt Laurel 50 Manning Place Birmingham AL 35424 3 miles off Hwy 280 on Co Rd 41\, between Chelsea and Inverness. (205) 437-8837
UID:e.145.3631
SEQUENCE:3
DTSTAMP:20260425T153529Z
URL:https://business.shelbychamber.org/events/details/greater-shelby-chamber-focus-chelsea-at-southern-pines-chiropractic-center-01-17-2012-3631
END:VEVENT

END:VCALENDAR
