BEGIN:VCALENDAR
VERSION:2.0
PRODID:-//ChamberMaster//Event Calendar 2.0//EN
METHOD:PUBLISH
X-PUBLISHED-TTL:P3D
REFRESH-INTERVAL:P3D
CALSCALE:GREGORIAN
BEGIN:VEVENT
DTSTART:20120403T133000Z
DTEND:20120403T143000Z
X-MICROSOFT-CDO-ALLDAYEVENT:FALSE
SUMMARY:Greater Shelby Chamber ~ Focus Columbiana at the Shelby County Reporter
DESCRIPTION:Join us for our Focus Columbiana at Shelby County Newspapers\, Inc. located at 115 North Main Street Columbiana.\n\n\n\nMeet our host: \n\n	Sheby County Newspapers\, Inc.\, prints and distributes more than 16\,000 newspapers every Wednesday.  The company is forward-thinking and thorough with the information included in each issue.  They are also computer and web savvy having an up-to-date website\, social media sharing options on the majority of articles\, a daily E-Newsletter\, plus social media sites on Facebook and Twitter.\n\n	\n\n	No cost or RSVP required. Bring plenty of business cards!\n\n	\n\n	Focus Meetings are typically scheduled the first and third Tuesday of each month from 8:30 a.m. until 9:30 a.m. and are informal gatherings designed to network with fellow Chamber members\, and listen as city officials or a special guest\, gives a brief update of developments in that particular area.
X-ALT-DESC;FMTTYPE=text/html:Join us for our Focus Columbiana at <a href="http://www.shelbycountyreporter.com/">Shelby County Newspapers\, Inc.</a> located at 115 North Main Street Columbiana.<br />\n<br />\nMeet our host:&nbsp\;\n<p>\n	<a href="http://www.shelbycountyreporter.com/">Sheby County Newspapers\, Inc.</a>\, prints and distributes more than 16\,000 newspapers every Wednesday.&nbsp\; The company is forward-thinking and thorough with the information included in each issue.&nbsp\; They are also computer and web savvy having an up-to-date website\, social media sharing options on the majority of articles\, a daily E-Newsletter\, plus social media sites on Facebook and Twitter.<br />\n	<br />\n	No cost or RSVP required. <em>Bring plenty of business cards!</em><br />\n	<br />\n	<a href="http://www.shelbychamber.org/default.asp?ID=39">Focus Meetings</a> are typically scheduled the&nbsp\;first and third&nbsp\;Tuesday of each month from 8:30 a.m. until 9:30 a.m. and are informal gatherings designed to network with fellow Chamber members\, and listen as city officials or a special guest\, gives a brief update of developments in that particular area.</p>\n
LOCATION:Shelby County Newspapers\, Inc. 115 North Main Street Columbiana AL 35051 (205) 669-3131
UID:e.145.3978
SEQUENCE:3
DTSTAMP:20260425T103111Z
URL:https://business.shelbychamber.org/events/details/greater-shelby-chamber-focus-columbiana-at-the-shelby-county-reporter-04-03-2012-3978
END:VEVENT

END:VCALENDAR
