BEGIN:VCALENDAR
VERSION:2.0
PRODID:-//ChamberMaster//Event Calendar 2.0//EN
METHOD:PUBLISH
X-PUBLISHED-TTL:P3D
REFRESH-INTERVAL:P3D
CALSCALE:GREGORIAN
BEGIN:VEVENT
DTSTART:20110712T133000Z
DTEND:20110712T143000Z
X-MICROSOFT-CDO-ALLDAYEVENT:FALSE
SUMMARY:Greater Shelby Chamber ~ Focus Helena at Buck Creek Stained Glass
DESCRIPTION:Join us for our Focus Helena at Buck Creek Stained Glass.\n\n\n\nMeet our host:  Buck Creek Stained Glass is a full-service stained glass studio located in the heart of historic Old Town Helena.  The studio resides in one of the oldest buildings in the city and was named for its location\, poised just a stone's throw from the Cahaba River tributary\, Buck Creek.  Buck Creek specializes in custom leaded stained glass windows\, leaded stained glass doors\, beveled glass doors\, and "Tiffany"-style stained glass windows\, panels and lamps.  Additionally\, they offer experienced stained glass restoration and repair\, from the timeless heirloom above the doorway to your home to that broken lampshade the dog knocked over!  No piece is too large or small for our talented artist to restore to its former glory.\n\n\n\nNo cost or RSVP required. Bring plenty of business cards!\n\n\n\nFocus Meetings are typically scheduled the first and third Tuesday of each month from 8:30 a.m. until 9:30 a.m. and are informal gatherings designed to network with fellow Chamber members\, and listen as city officials or a special guest\, gives a brief update of developments in that particular area.
X-ALT-DESC;FMTTYPE=text/html:Join us for our Focus Helena at <a href="http://www.buckcreekglass.com/">Buck Creek Stained Glass</a>.<br />\n<br />\nMeet our host:&nbsp\; <a href="http://www.buckcreekglass.com/">Buck Creek Stained Glass</a> is a full-service stained glass studio located in the heart of historic Old Town Helena.&nbsp\; The studio resides in one of the oldest buildings in the city and was named for its location\, poised just a stone&#39\;s throw from the Cahaba River tributary\, Buck Creek.&nbsp\; Buck Creek specializes in custom leaded stained glass windows\, leaded stained glass doors\, beveled glass doors\, and &quot\;Tiffany&quot\;-style stained glass windows\, panels and lamps.&nbsp\; Additionally\, they offer experienced stained glass restoration and repair\, from the timeless heirloom above the doorway to your home to that broken lampshade the dog knocked over!&nbsp\; No piece is too large or small for our talented artist to restore to its former glory.<br />\n<br />\nNo cost or RSVP required. Bring plenty of business cards!<br />\n<br />\n<a href="http://www.shelbychamber.org/default.asp?ID=39">Focus Meetings</a> are typically scheduled the&nbsp\;first and third&nbsp\;Tuesday of each month from 8:30 a.m. until 9:30 a.m. and are informal gatherings designed to network with fellow Chamber members\, and listen as city officials or a special guest\, gives a brief update of developments in that particular area. 
LOCATION:Buck Creek Stained Glass 4114 Helena Rd Helena AL 35080 (205) 541-3322
UID:e.145.3409
SEQUENCE:3
DTSTAMP:20260425T232513Z
URL:https://business.shelbychamber.org/events/details/greater-shelby-chamber-focus-helena-at-buck-creek-stained-glass-07-12-2011-3409
END:VEVENT

END:VCALENDAR
