BEGIN:VCALENDAR
VERSION:2.0
PRODID:-//ChamberMaster//Event Calendar 2.0//EN
METHOD:PUBLISH
X-PUBLISHED-TTL:P3D
REFRESH-INTERVAL:P3D
CALSCALE:GREGORIAN
BEGIN:VEVENT
DTSTART:20110405T133000Z
DTEND:20110405T143000Z
X-MICROSOFT-CDO-ALLDAYEVENT:FALSE
SUMMARY:Greater Shelby Chamber Focus Hoover at Sam's Club
DESCRIPTION:Make plans to attend the Focus on Hoover hosted by Sam's Club.\n\n	At Sam's Club\, our focus is on giving you more value for your Membership.\n\n	\n\n	Your Membership is your access to savings that reach beyond your local Club. Whether you're planning a family vacation or trying to expand your employee benefits\, you'll find exceptional solutions that will save you money. It's that simple!\n\n	Focus Meetings are informal networking events sponsored by various member businesses. Each month meetings are held\, on a rotating basis the 1st and 3rd Tuesday of the month\, at various locations throughout the county.  The Chamber personally invites city officials\, or a guest speaker of interest\, to share with members the exciting news going on in that area. Bring plenty of business cards!
X-ALT-DESC;FMTTYPE=text/html:<p>\n	Make plans to attend the&nbsp\;<a href="http://www.shelbychamber.org/default.asp?ID=39">Focus</a> on&nbsp\;<a href="http://www.ci.hoover.al.us/">Hoover</a>&nbsp\;hosted by <a href="http://www.samsclub.com/sams/homepage.jsp">Sam&#39\;s Club</a>.</p>\n<p>\n	At <a href="http://www.samsclub.com/sams/homepage.jsp">Sam&#39\;s Club</a>\, our focus is on giving you more value for your Membership.<br />\n	<br />\n	Your Membership is your access to savings that reach beyond your local Club. Whether you&#39\;re planning a family vacation or trying to expand your employee benefits\, you&#39\;ll find exceptional solutions that will save you money. It&#39\;s that simple!</p>\n<p>\n	<a href="http://www.shelbychamber.org/default.asp?ID=39">Focus Meetings</a> are informal networking events sponsored by various member businesses. Each month meetings are held\, on a rotating basis the 1st and 3rd Tuesday of the month\, at various locations throughout the county.&nbsp\; The Chamber personally invites city officials\, or a guest speaker of interest\, to share with members the exciting news going on in that area. <em>Bring plenty of business cards!</em></p>\n
LOCATION:Sam's Club 3053 Highway 150\, Hoover\, AL 35244 (205) 982-0596
UID:e.145.3255
SEQUENCE:3
DTSTAMP:20260426T035353Z
URL:https://business.shelbychamber.org/events/details/greater-shelby-chamber-focus-hoover-at-sam-s-club-04-05-2011-3255
END:VEVENT

END:VCALENDAR
