BEGIN:VCALENDAR
VERSION:2.0
PRODID:-//ChamberMaster//Event Calendar 2.0//EN
METHOD:PUBLISH
X-PUBLISHED-TTL:P3D
REFRESH-INTERVAL:P3D
CALSCALE:GREGORIAN
BEGIN:VEVENT
DTSTART:20111115T143000Z
DTEND:20111115T153000Z
X-MICROSOFT-CDO-ALLDAYEVENT:FALSE
SUMMARY:Greater Shelby Chamber ~ Focus Hoover at The UPS Store
DESCRIPTION:Join us for our Focus Hoover at The UPS Store - Hoover.\n\n\n\nGot Business? We can help. Whether your company is well established or you are just starting out\, we can help with everything from business cards\, shipping\, document services and promotional media.\n\n\n\nFocus events are typically scheduled the first and third Tuesday of each month from 8:30 a.m. until 9:30 a.m. and are informal gatherings designed to network with fellow Chamber members\, and listen as city officials or a special guest\, gives a brief update of developments in that particular area.
X-ALT-DESC;FMTTYPE=text/html:Join us for our Focus <a href="http://www.ci.hoover.al.us/">Hoover</a> at <a href="http://www.theupsstorelocal.com/2389/">The UPS Store - Hoover</a>.<br />\n<br />\nGot Business? We can help. Whether your company is well established or you are just starting out\, we can help with everything from business cards\, shipping\, document services and promotional media.<br />\n<br />\n<a href="http://www.shelbychamber.org/default.asp?ID=39">Focus</a> events are typically scheduled the first and third Tuesday of each month from 8:30 a.m. until 9:30 a.m. and are informal gatherings designed to network with fellow Chamber members\, and listen as city officials or a special guest\, gives a brief update of developments in that particular area.
LOCATION:The UPS Store - Hoover 5184 Caldwell Mill Road\, Suite 204 Hoover AL 35244 (205) 980-8180
UID:e.145.3545
SEQUENCE:3
DTSTAMP:20260425T171424Z
URL:https://business.shelbychamber.org/events/details/greater-shelby-chamber-focus-hoover-at-the-ups-store-11-15-2011-3545
END:VEVENT

END:VCALENDAR
