BEGIN:VCALENDAR
VERSION:2.0
PRODID:-//ChamberMaster//Event Calendar 2.0//EN
METHOD:PUBLISH
X-PUBLISHED-TTL:P3D
REFRESH-INTERVAL:P3D
CALSCALE:GREGORIAN
BEGIN:VEVENT
DTSTART:20110906T133000Z
DTEND:20110906T143000Z
X-MICROSOFT-CDO-ALLDAYEVENT:FALSE
SUMMARY:Greater Shelby Chamber ~ Focus Indian Springs at Indian Springs School
DESCRIPTION:Join us for our Focus Indian Springs at Indian Springs School\, 190  Woodward Drive.\n\n\n\nThe mission of Indian Springs School is to develop in students a love of learning\, a sense of integrity and moral courage\, and an ethic of participatory citizenship. Inspired by the motto Learning Through Living\, the school is a community of talented boarding and day students and dedicated faculty committed to the belief that in learning to balance individual achievement with the values and principles of democracy\, the student can develop to his or her full stature.\n\n\n\nFocus events are typically scheduled the first and third Tuesday of each month from 8:30 a.m. until 9:30 a.m. and are informal gatherings designed to network with fellow Chamber members\, and listen as city officials or a special guest\, gives a brief update of developments in that particular area.
X-ALT-DESC;FMTTYPE=text/html:Join us for our Focus <a href="http://www.indianspringsvillage.org/">Indian Springs</a> at <a href="http://www.indiansprings.org/podium/default.aspx?t=108790">Indian Springs School</a>\, 190&nbsp\; Woodward Drive.<br />\n<br />\nThe mission of Indian Springs School is to develop in students a love of learning\, a sense of integrity and moral courage\, and an ethic of participatory citizenship. Inspired by the motto Learning Through Living\, the school is a community of talented boarding and day students and dedicated faculty committed to the belief that in learning to balance individual achievement with the values and principles of democracy\, the student can develop to his or her full stature.<br />\n<br />\n<a href="http://www.shelbychamber.org/default.asp?ID=39">Focus</a> events are typically scheduled the first and third Tuesday of each month from 8:30 a.m. until 9:30 a.m. and are informal gatherings designed to network with fellow Chamber members\, and listen as city officials or a special guest\, gives a brief update of developments in that particular area.
LOCATION:Indian Springs School\, 190 Woodward Drive\, Indian Springs\, AL 35124-3272 Main Phone: (205) 988-3350 Toll Free: (888) 843-9477
UID:e.145.3484
SEQUENCE:3
DTSTAMP:20260425T200849Z
URL:https://business.shelbychamber.org/events/details/greater-shelby-chamber-focus-indian-springs-at-indian-springs-school-09-06-2011-3484
END:VEVENT

END:VCALENDAR
