BEGIN:VCALENDAR
VERSION:2.0
PRODID:-//ChamberMaster//Event Calendar 2.0//EN
METHOD:PUBLISH
X-PUBLISHED-TTL:P3D
REFRESH-INTERVAL:P3D
CALSCALE:GREGORIAN
BEGIN:VEVENT
DTSTART:20110517T133000Z
DTEND:20110517T143000Z
X-MICROSOFT-CDO-ALLDAYEVENT:FALSE
SUMMARY:Greater Shelby Chamber ~ Focus Montevallo at American Village
DESCRIPTION:Join us for our Focus Montevallo at the American Village.\n\n\n\nMeet our host:\n\n\n\nThe American Village web site is constantly growing and changing\, so we invite you to visit often. In the coming weeks we will be introducing even more features to help The Citizenship Trust and American Village fulfill its mission: "... to strengthen and renew the foundations of American liberty and self-government through citizenship education."\n\n\n\nThe Citizenship Trust was first chartered in 1995 as a public educational institution with a nationally pioneering mission. Whether you are involved in education\, or whether you are an individual looking for a place to visit and learn\, The American Village is a place you want to visit.\n\n\n	No cost or RSVP required. Bring plenty of business cards!\n\n	\n\n	City Focus is typically scheduled the first and third Tuesday of each month from 8:30 a.m. until 9:30 a.m. and are informal gatherings designed to network with fellow Chamber members\, and listen as city officials or a special guest\, gives a brief update of developments in that particular area.
X-ALT-DESC;FMTTYPE=text/html:Join us for our Focus Montevallo at the <a href="http://www.americanvillage.org/index.shtml">American Village</a>.<br />\n<br />\nMeet our host:<br />\n<br />\nThe <a href="http://www.americanvillage.org/index.shtml">American Village web site</a> is constantly growing and changing\, so we invite you to visit often. In the coming weeks we will be introducing even more features to help <a href="http://www.americanvillage.org/index.shtml">The Citizenship Trust and American Village</a> fulfill its mission: &quot\;... to strengthen and renew the foundations of American liberty and self-government through citizenship education.&quot\;<br />\n<br />\nThe Citizenship Trust was first chartered in 1995 as a public educational institution with a nationally pioneering mission. Whether you are involved in education\, or whether you are an individual looking for a place to visit and learn\, <a href="http://www.americanvillage.org/index.shtml">The American Village</a> is a place you want to visit.<br />\n<p>\n	No cost or RSVP required. <em>Bring plenty of business cards!</em><br />\n	<br />\n	<a href="http://www.shelbychamber.org/default.asp?ID=39">City Focus</a> is typically scheduled the&nbsp\;first and third&nbsp\;Tuesday of each month from 8:30 a.m. until 9:30 a.m. and are informal gatherings designed to network with fellow Chamber members\, and listen as city officials or a special guest\, gives a brief update of developments in that particular area.</p>\n
LOCATION:American Village 3727 Highway 119 South\, Montevallo\, AL 35115 (205) 665-3535
UID:e.145.3385
SEQUENCE:3
DTSTAMP:20260426T034058Z
URL:https://business.shelbychamber.org/events/details/greater-shelby-chamber-focus-montevallo-at-american-village-05-17-2011-3385
END:VEVENT

END:VCALENDAR
