BEGIN:VCALENDAR
VERSION:2.0
PRODID:-//ChamberMaster//Event Calendar 2.0//EN
METHOD:PUBLISH
X-PUBLISHED-TTL:P3D
REFRESH-INTERVAL:P3D
CALSCALE:GREGORIAN
BEGIN:VEVENT
DTSTART:20120306T143000Z
DTEND:20120306T153000Z
X-MICROSOFT-CDO-ALLDAYEVENT:FALSE
SUMMARY:Greater Shelby Chamber ~ Focus Montevallo at University of Montevallo
DESCRIPTION:Join us for our Focus Montevallo at the University of Montevallo at the James R. Wilkinson Student Life Center at Farmer Hall.\n\n\n\nMeet our host:  Click here for a PDF of printable directions.\n\n\n\nThe University of Montevallo at the James R. Wilkinson Student Life Center at Farmer Hall\,  The University of Montevallo dedicated the James R. Wilkinson Student Life Center at Farmer Hall on Founders' Day\, October 13\, 2011.  The Student Life Center features a World of Wings Caf \, Starbucks Coffee\, a game room\, a student lounge area\, an outdoor patio\, and a campus spirit store.\n\n\n\nThis renovation project was made possible through the generosity of numerous members of the Montevallo family.  Our students are truly enjoying the facility\, and it is a great addition to campus.  Next time you are on campus\, please take a moment to visit the Student Life Center!\n\n\n\nTo learn more about recognition opportunities or to make a donation to the James R. Wilkinson Student Life Center\, contact:\n\n\n\nOffice of University Advancement & Alumni Affairs\n\nUniversity of Montevallo\n\nStation 6215\n\nMontevallo\, AL 35115\n\nPhone: (205) 665-6215\n\n	No cost or RSVP required. Bring plenty of business cards!\n\n	\n\n	City Focus  are informal gatherings designed to network with fellow Chamber members\, and listen as city officials or a special guest\, gives a brief update of developments in that particular area.
X-ALT-DESC;FMTTYPE=text/html:Join us for our Focus Montevallo at the University of Montevallo at the <a href="http://www.montevallo.edu/giving/MajorProjects/WilkinsonSLC.shtm">James R. Wilkinson Student Life Center at Farmer Hall</a>.<br />\n<br />\nMeet our host:&nbsp\; <strong><a href="http://www.montevallo.edu/PublicSafety/UM-policeMap.pdf">Click here for a PDF of printable directions</a></strong>.<br />\n<br />\nThe University of Montevallo at the James R. Wilkinson Student Life Center at Farmer Hall\,&nbsp\; The University of Montevallo dedicated the James R. Wilkinson Student Life Center at Farmer Hall on Founders&rsquo\; Day\, October 13\, 2011.&nbsp\; The Student Life Center features a World of Wings Caf&eacute\;\, Starbucks Coffee\, a game room\, a student lounge area\, an outdoor patio\, and a campus spirit store.<br />\n<br />\nThis renovation project was made possible through the generosity of numerous members of the Montevallo family.&nbsp\; Our students are truly enjoying the facility\, and it is a great addition to campus.&nbsp\; Next time you are on campus\, please take a moment to visit the Student Life Center!<br />\n<br />\nTo learn more about recognition opportunities or to make a donation to the James R. Wilkinson Student Life Center\, contact:<br />\n<br />\nOffice of University Advancement &amp\; Alumni Affairs<br />\nUniversity of Montevallo<br />\nStation 6215<br />\nMontevallo\, AL 35115<br />\nPhone: (205) 665-6215\n<p>\n	No cost or RSVP required. <em>Bring plenty of business cards!</em><br />\n	<br />\n	<a href="http://www.shelbychamber.org/default.asp?ID=39">City Focus</a>&nbsp\; are informal gatherings designed to network with fellow Chamber members\, and listen as city officials or a special guest\, gives a brief update of developments in that particular area.</p>\n
LOCATION:University of Montevallo The Wilkinson Student Life Center\, 75 College Dr. Carolyn Jones\, Administrative Specialist Office of the President Station 6001 Phone: 205-665-6001
UID:e.145.3935
SEQUENCE:3
DTSTAMP:20260425T102710Z
URL:https://business.shelbychamber.org/events/details/greater-shelby-chamber-focus-montevallo-at-university-of-montevallo-03-06-2012-3935
END:VEVENT

END:VCALENDAR
