BEGIN:VCALENDAR
VERSION:2.0
PRODID:-//ChamberMaster//Event Calendar 2.0//EN
METHOD:PUBLISH
X-PUBLISHED-TTL:P3D
REFRESH-INTERVAL:P3D
CALSCALE:GREGORIAN
BEGIN:VEVENT
DTSTART:20110920T133000Z
DTEND:20110920T143000Z
X-MICROSOFT-CDO-ALLDAYEVENT:FALSE
SUMMARY:Greater Shelby Chamber ~ Focus Pelham Sarah's Flowers
DESCRIPTION:Join us for our Pelham Focus at Sarah's Flowers\,  2834-C Pelham Parkway.\n\n\n\nMeet our host:  Sarah's Flowers has been proudly serving Pelham since 1980. We are family owned and operated\, with over 35 years of combined professional design experience. We are committed to offering only the finest floral arrangements and gifts\, backed by service that is friendly and prompt. Because all of our customers are important\, our professional staff is dedicated to making your experience a pleasant one. That is why we always go the extra mile to make your floral gift perfect.\n\n\n\nLet Sarah's Flowers be your first choice for flowers.\n\n\n\nNo cost or RSVP required. Bring plenty of business cards!\n\n\n\nFocus events are typically scheduled the first and third Tuesday of each month from 8:30 a.m. until 9:30 a.m. and are informal gatherings designed to network with fellow Chamber members\, and listen as city officials or a special guest\, gives a brief update of developments in that particular area.
X-ALT-DESC;FMTTYPE=text/html:Join us for our Pelham Focus at <a href="http://www.sarahsflowersonline.com/">Sarah&#39\;s Flowers</a>\,&nbsp\; 2834-C Pelham Parkway.<br />\n<br />\nMeet our host:&nbsp\; <a href="http://www.sarahsflowersonline.com/">Sarah&#39\;s Flowers</a> has been proudly serving Pelham since 1980. We are family owned and operated\, with over 35 years of combined professional design experience. We are committed to offering only the finest floral arrangements and gifts\, backed by service that is friendly and prompt. Because all of our customers are important\, our professional staff is dedicated to making your experience a pleasant one. That is why we always go the extra mile to make your floral gift perfect.<br />\n<br />\nLet Sarah&#39\;s Flowers be your first choice for flowers.<br />\n<br />\nNo cost or RSVP required. Bring plenty of business cards!<br />\n<br />\n<span class="cm_editor_fix"><a href="http://www.shelbychamber.org/default.asp?ID=39">Focus</a> events are typically scheduled the first and third Tuesday of each month from 8:30 a.m. until 9:30 a.m. and are informal gatherings designed to network with fellow Chamber members\, and listen as city officials or a special guest\, gives a brief update of developments in that particular area.</span>
LOCATION:Sarah's Flowers\, Incorporated 2834-C Pelham Parkway Pelham AL 35124 (205) 663-6308
UID:e.145.3507
SEQUENCE:3
DTSTAMP:20260425T201452Z
URL:https://business.shelbychamber.org/events/details/greater-shelby-chamber-focus-pelham-sarah-s-flowers-09-20-2011-3507
END:VEVENT

END:VCALENDAR
