BEGIN:VCALENDAR
VERSION:2.0
PRODID:-//ChamberMaster//Event Calendar 2.0//EN
METHOD:PUBLISH
X-PUBLISHED-TTL:P3D
REFRESH-INTERVAL:P3D
CALSCALE:GREGORIAN
BEGIN:VEVENT
DTSTART:20110419T133000Z
DTEND:20110419T143000Z
X-MICROSOFT-CDO-ALLDAYEVENT:FALSE
SUMMARY:Greater Shelby Chamber Focus Westover at ServPro
DESCRIPTION:Make plans to attend the Focus on Westover at ServPro (Sterrett location).\n\n	SERVPRO  of Shelby County understands the stress and worry that comes with a fire or water damage and the disruption it causes your life and home or business. Our goal is to help minimize the interruption to your life and quickly make it "Like it never even happened."\n\n	\n\n	SERVPRO  of Shelby County specializes in the cleanup and restoration of residential and commercial property after a fire\, smoke or water damage. SERVPRO  of Shelby County can also mitigate mold and mildew from your home or business.\n\n	\n\n	Our staff is highly trained in property damage restoration. From initial and ongoing training at SERVPRO's corporate training facility to regular IICRC-industry certification\, rest assured our staff is equipped with the knowledge to restore your property. Backed by a nationwide system of more than 1\,500 qualified franchises\, no damage is too large or too small for SERVPRO  of Shelby County.\n\n	\n\n	If you would like to schedule service for your home or business\, please call today!\n\n	\n\n	Serving you since 1967\, SERVPRO is the cleaning and restoration brand you know and trust.\n\n	\n\n	Your Membership is your access to savings that reach beyond your local Club. Whether you're planning a family vacation or trying to expand your employee benefits\, you'll find exceptional solutions that will save you money. It's that simple!\n\n	Focus Meetings are informal networking events sponsored by various member businesses. Each month meetings are held\, on a rotating basis the 1st and 3rd Tuesday of the month\, at various locations throughout the county.  The Chamber personally invites city officials\, or a guest speaker of interest\, to share with members the exciting news going on in that area. Bring plenty of business cards!
X-ALT-DESC;FMTTYPE=text/html:<p>\n	Make plans to attend the&nbsp\;<a href="http://www.shelbychamber.org/default.asp?ID=39">Focus</a> on Westover at ServPro (Sterrett location).</p>\n<p>\n	SERVPRO<sup>&reg\;</sup> of Shelby County understands the stress and worry that comes with a fire or water damage and the disruption it causes your life and home or business. Our goal is to help minimize the interruption to your life and quickly make it &quot\;Like it never even happened.&quot\;<br />\n	<br />\n	SERVPRO<sup>&reg\;</sup> of Shelby County specializes in the cleanup and restoration of residential and commercial property after a fire\, smoke or water damage. SERVPRO<sup>&reg\;</sup> of Shelby County can also mitigate mold and mildew from your home or business.<br />\n	<br />\n	Our staff is highly trained in property damage restoration. From initial and ongoing training at SERVPRO&rsquo\;s corporate training facility to regular IICRC-industry certification\, rest assured our staff is equipped with the knowledge to restore your property. Backed by a nationwide system of more than 1\,500 qualified franchises\, no damage is too large or too small for SERVPRO<sup>&reg\;</sup> of Shelby County.<br />\n	<br />\n	If you would like to schedule service for your home or business\, please call today!<br />\n	<br />\n	Serving you since 1967\, SERVPRO is the cleaning and restoration brand you know and trust.<br />\n	<br />\n	Your Membership is your access to savings that reach beyond your local Club. Whether you&#39\;re planning a family vacation or trying to expand your employee benefits\, you&#39\;ll find exceptional solutions that will save you money. It&#39\;s that simple!</p>\n<p>\n	<a href="http://www.shelbychamber.org/default.asp?ID=39">Focus Meetings</a> are informal networking events sponsored by various member businesses. Each month meetings are held\, on a rotating basis the 1st and 3rd Tuesday of the month\, at various locations throughout the county.&nbsp\; The Chamber personally invites city officials\, or a guest speaker of interest\, to share with members the exciting news going on in that area. <em>Bring plenty of business cards!</em></p>\n
LOCATION:ServPro 11075 Highway 280\, Sterrett
UID:e.145.3257
SEQUENCE:3
DTSTAMP:20260426T033948Z
URL:https://business.shelbychamber.org/events/details/greater-shelby-chamber-focus-westover-at-servpro-04-19-2011-3257
END:VEVENT

END:VCALENDAR
