BEGIN:VCALENDAR
VERSION:2.0
PRODID:-//ChamberMaster//Event Calendar 2.0//EN
METHOD:PUBLISH
X-PUBLISHED-TTL:P3D
REFRESH-INTERVAL:P3D
CALSCALE:GREGORIAN
BEGIN:VEVENT
DTSTART:20150515T140000Z
DTEND:20150515T160000Z
X-MICROSOFT-CDO-ALLDAYEVENT:FALSE
SUMMARY:Greater Shelby Chamber - "Get Golf Ready" Seminar at Ballantrae Golf Club
DESCRIPTION:"Get Golf Ready" Seminar to be held at Ballantrae May 15\n\n\n\nDo you find yourself often needing to use golf for business and feel like you need to brush up on your knowledge\, skills\, and etiquette of the game? Women do you find yourself feeling intimidated by the Golf Course and want to gain confidence? Or\, maybe you just need a morning to brush up on your skills.\n\n\n\nJoin us for our first seminar on how to Get Golf Ready. Butch Byrd\, Golf Pro will lead this fun and informative outdoor seminar at Ballantrae Golf Club\, 1300 Ballantrae Club Dr. Pelham.\n\n\n\nAttendees will enjoy a tour of Ballantrae\, learn about the history of game of golf\, common rules for stepping out onto a course\, basic etiquette\, difference in golf clubs and equipment and much more!\n\n\n\nThe seminar will be held on May 15 from 9:00AM until 11:00AM which includes lunch at Ballantrae. The investment to attend the seminar is $10 for Chamber members\, $20 for "Future" members with reservations requested by May 13.\n\n\n\nRegister online above or contact Brooke Story at 663-4542 for more information.
X-ALT-DESC;FMTTYPE=text/html:<br />\n<strong>&quot\;Get Golf Ready&quot\; Seminar to be held at Ballantrae May 15</strong><br />\n<br />\nDo you find yourself often needing to use golf for business and feel like you need to brush up on your knowledge\, skills\, and etiquette of the game? Women do you find yourself feeling intimidated by the Golf Course and want to gain confidence? Or\, maybe you just need a morning to brush up on your skills.<br />\n<br />\nJoin us for our first seminar on how to Get Golf Ready. Butch Byrd\, Golf Pro will lead this fun and informative outdoor seminar at Ballantrae Golf Club\, 1300 Ballantrae Club Dr. Pelham.<br />\n<br />\nAttendees will enjoy a tour of Ballantrae\, learn about the history of game of golf\, common rules for stepping out onto a course\, basic etiquette\, difference in golf clubs and equipment and much more!<br />\n<br />\nThe seminar will be held on May 15 from 9:00AM until 11:00AM which includes lunch at Ballantrae. The investment to attend the seminar is $10 for Chamber members\, $20 for &quot\;Future&quot\; members with reservations requested by May 13.<br />\n<br />\nRegister online above or contact Brooke Story at 663-4542 for more information.
LOCATION:Ballantrae Golf Club 1300 Ballantrae Club Drive Pelham\, AL 35124 (205) 620-GOLF (4653)
UID:e.145.7628
SEQUENCE:3
DTSTAMP:20260423T003404Z
URL:https://business.shelbychamber.org/events/details/greater-shelby-chamber-get-golf-ready-seminar-at-ballantrae-golf-club-05-15-2015-7628
END:VEVENT

END:VCALENDAR
