BEGIN:VCALENDAR
VERSION:2.0
PRODID:-//ChamberMaster//Event Calendar 2.0//EN
METHOD:PUBLISH
X-PUBLISHED-TTL:P3D
REFRESH-INTERVAL:P3D
CALSCALE:GREGORIAN
BEGIN:VEVENT
DTSTART:20150514T223000Z
DTEND:20150515T000000Z
X-MICROSOFT-CDO-ALLDAYEVENT:FALSE
SUMMARY:Greater Shelby Chamber - Get In On the Best "Card Game" in Shelby County @ the Chamber's May 14 Business After Hours
DESCRIPTION:Get In On the Best "Card Game" in Shelby County\n\n@ the Greater Shelby Chamber's May 14 Business After Hours \n\n\n\nShelby County's premier business networking event -- sponsored by Shelby County Newspapers\, Inc. -- heads to The Retreat at Greystone on May 14 from 5:30PM-7:00PM.\n\n\n\nBring plenty of business cards and come ready to make some serious business contacts.  Plus\, if you meet enough people you'll earn a chance to win some prizes.  The investment   which includes hors d'oeuvres and two beverage coupons -- for any Chamber member is $10 per person and $20 for "Future" members.\n\n\n\nReservations are required\, so please register via email at info@shelbychamber.org\, by phone at 663-4542 using online registration above by May 13.\n\n\n\nBusiness After Hours events are premier networking opportunities\, offering members and guests the chance to meet business professionals representing products and services in a relaxed\, social setting. Members attending have an opportunity to exchange business cards and become acquainted with other businesses throughout the community.  Bring plenty of business cards!
X-ALT-DESC;FMTTYPE=text/html:<br />\n<strong>Get In On the Best &ldquo\;Card Game&rdquo\; in Shelby County<br />\n@ the Greater Shelby Chamber&rsquo\;s May 14 Business After Hours </strong><br />\n<br />\nShelby County&rsquo\;s premier business networking event -- sponsored by Shelby County Newspapers\, Inc. -- heads to The Retreat at Greystone on May 14 from 5:30PM-7:00PM.<br />\n<br />\nBring plenty of business cards and come ready to make some serious business contacts.&nbsp\; Plus\, if you meet enough people you&rsquo\;ll earn a chance to win some prizes.&nbsp\; The investment &ndash\; which includes hors d&rsquo\;oeuvres and two beverage coupons -- for any Chamber member is $10 per person and $20 for &ldquo\;Future&rdquo\; members.<br />\n<br />\nReservations are required\, so please register via email at info@shelbychamber.org\, by phone at 663-4542 using online registration above by May 13.<br />\n<br />\n<a href="http://www.shelbychamber.org/default.asp?ID=109">Business After Hours</a> events are premier networking opportunities\, offering members and guests the chance to meet business professionals representing products and services in a relaxed\, social setting. Members attending have an opportunity to exchange business cards and become acquainted with other businesses throughout the community.&nbsp\; <em>Bring plenty of business cards!</em>
LOCATION:Retreat at Greystone 201 Retreat Drive Birmingham\, AL 35242 (205) 983-7833
UID:e.145.7631
SEQUENCE:3
DTSTAMP:20260422T231403Z
URL:https://business.shelbychamber.org/events/details/greater-shelby-chamber-get-in-on-the-best-card-game-in-shelby-county-the-chamber-s-may-14-business-after-hours-05-14-2015-7631
END:VEVENT

END:VCALENDAR
