BEGIN:VCALENDAR
VERSION:2.0
PRODID:-//ChamberMaster//Event Calendar 2.0//EN
METHOD:PUBLISH
X-PUBLISHED-TTL:P3D
REFRESH-INTERVAL:P3D
CALSCALE:GREGORIAN
BEGIN:VEVENT
DTSTART:20140812T163000Z
DTEND:20140812T190000Z
X-MICROSOFT-CDO-ALLDAYEVENT:FALSE
SUMMARY:Greater Shelby Chamber - Go & Grow "Balancing a Role as Manager & Key Producer"
DESCRIPTION:Go & Grow Workshop "Balancing Your Role as Manager & Key Producer"\n\n\n\nThe "balancing act" many owners and managers attempt to achieve between being the "Manager" and a "key producer" for a company can be a challenging one. On August 12\, the Chamber's Go & Grow Workshop will provide strategies and action steps for owners and top managers trying to fill both roles. Topics covered during this hands-on and interactive workshop include:\n\n\n\n- Being the Producer\,\n\n- Being the Manager\,\n\n- How to be a GREAT Manager & a GREAT Producer\,\n\n- Leadership vs. Management\,\n\n- Time Management.\n\n\n\nThe workshop will be from 11:30AM until 2:00PM at the Chamber. The investment for this workshop is $10 per person for Chamber members ($20 for "Future" members) and includes lunch.\n\n\n\nTo ensure we have a proper headcount\, please make reservations for this workshop via the Chamber's Register Online button above or by calling 663-4542.
X-ALT-DESC;FMTTYPE=text/html:<strong>Go &amp\; Grow Workshop &quot\;Balancing Your Role as Manager &amp\; Key Producer&quot\;</strong><br />\n<br />\nThe &ldquo\;balancing act&rdquo\; many owners and managers attempt to achieve between being the &quot\;Manager&rdquo\; and a &ldquo\;key producer&rdquo\; for a company can be a challenging one. On August 12\, the Chamber&rsquo\;s Go &amp\; Grow Workshop will provide strategies and action steps for owners and top managers trying to fill both roles. Topics covered during this hands-on and interactive workshop include:<br />\n<br />\n- Being the Producer\,<br />\n- Being the Manager\,<br />\n- How to be a GREAT Manager &amp\; a GREAT Producer\,<br />\n- Leadership vs. Management\,<br />\n- Time Management.<br />\n<br />\nThe workshop will be from 11:30AM until 2:00PM at the Chamber. The investment for this workshop is $10 per person for Chamber members ($20 for &ldquo\;Future&rdquo\; members) and includes lunch.<br />\n<br />\nTo ensure we have a proper headcount\, please make reservations for this workshop via the Chamber&rsquo\;s Register Online button above or by calling 663-4542.
LOCATION:Greater Shelby Chamber 1301 County Services Dr.\, Pelham
UID:e.145.5793
SEQUENCE:3
DTSTAMP:20260423T121438Z
URL:https://business.shelbychamber.org/events/details/greater-shelby-chamber-go-grow-balancing-a-role-as-manager-key-producer-08-12-2014-5793
END:VEVENT

END:VCALENDAR
