BEGIN:VCALENDAR
VERSION:2.0
PRODID:-//ChamberMaster//Event Calendar 2.0//EN
METHOD:PUBLISH
X-PUBLISHED-TTL:P3D
REFRESH-INTERVAL:P3D
CALSCALE:GREGORIAN
BEGIN:VEVENT
DTSTART:20150113T173000Z
DTEND:20150113T200000Z
X-MICROSOFT-CDO-ALLDAYEVENT:FALSE
SUMMARY:Greater Shelby Chamber - Go & Grow "Building Networks That Work For You"
DESCRIPTION:Go & Grow Workshop "Building Networks That Work For You"\n\n\n\nBusiness Networking is something everyone talks about doing - but figuring out how to do it well is challenging for all of us.  On January 13\, the Chamber's Go & Grow Workshop -- sponsored by Charter Business and facilitated by Michael Smith of The Great\, The Good and The Gone -- will provide strategies and action steps for attendees to make their networking efforts work for them. Topics covered during this hands-on and interactive workshop include:\n\n\n\n- Know Who You Want In Your Network\,\n\n- How To Start Mutually Beneficial Professional Relationships\,\n\n- Where To Find The People You Want To Network With\,\n\n- Using Social Media\, the Chamber\, Associations\, E-mail & Voice Mail Effectively.\n\n\n\nThe workshop will be from 11:30AM until 2:00PM at the Chamber. There is no cost to attend\, but lunch is available for $10 per person for Chamber members and $20 per person for "Future" members.\n\n\n\nTo ensure we have a proper headcount\, please make reservations for this workshop by January 12. Contact Brooke Story\, the Chamber's Director of Business Development & Support\, via e-mail at brooke@shelbychamber.org\, call 663-4542 (ext. 105) or register online above.
X-ALT-DESC;FMTTYPE=text/html:<strong>Go &amp\; Grow Workshop &quot\;Building Networks That Work For You&quot\;</strong><br />\n<br />\nBusiness Networking is something everyone talks about doing - but figuring out how to do it well is challenging for all of us.&nbsp\; On January 13\, the Chamber&#39\;s Go &amp\; Grow Workshop -- sponsored by Charter Business and facilitated by Michael Smith of The Great\, The Good and The Gone -- will provide strategies and action steps for attendees to make their networking efforts work for them. Topics covered during this hands-on and interactive workshop include:<br />\n<br />\n- Know Who You Want In Your Network\,<br />\n- How To Start Mutually Beneficial Professional Relationships\,<br />\n- Where To Find The People You Want To Network With\,<br />\n- Using Social Media\, the Chamber\, Associations\, E-mail &amp\; Voice Mail Effectively.<br />\n<br />\nThe workshop will be from 11:30AM until 2:00PM at the Chamber. There is no cost to attend\, but lunch is available for $10 per person for Chamber members and $20 per person for &quot\;Future&quot\; members.<br />\n<br />\nTo ensure we have a proper headcount\, please make reservations for this workshop by January 12. Contact Brooke Story\, the Chamber&#39\;s Director of Business Development &amp\; Support\, via e-mail at brooke@shelbychamber.org\, call 663-4542 (ext. 105) or register online above.
LOCATION:Greater Shelby Chamber 1301 County Services Dr.\, Pelham
UID:e.145.6550
SEQUENCE:3
DTSTAMP:20260423T051059Z
URL:https://business.shelbychamber.org/events/details/greater-shelby-chamber-go-grow-building-networks-that-work-for-you-01-13-2015-6550
END:VEVENT

END:VCALENDAR
