BEGIN:VCALENDAR
VERSION:2.0
PRODID:-//ChamberMaster//Event Calendar 2.0//EN
METHOD:PUBLISH
X-PUBLISHED-TTL:P3D
REFRESH-INTERVAL:P3D
CALSCALE:GREGORIAN
BEGIN:VEVENT
DTSTART:20160907T163000Z
DTEND:20160907T190000Z
X-MICROSOFT-CDO-ALLDAYEVENT:FALSE
SUMMARY:Greater Shelby Chamber - Go & Grow "Entrepreneurship 101"
DESCRIPTION:Greater Shelby Chamber Go & Grow Workshop\n\n"Entrepreneurship 101"\n\n\nWhether you've started your own business   or are thinking about it -- September's Go & Grow Workshop offers attendees valuable information on:\n\n\n\n    - What You Need To Know To Launch A Business\,\n\n\n\n    - Building A Money Plan   Capital & Cash Flow\,\n\n\n\n    - Building A Sales & Marketing Plan\, \n\n\n\n    - Building A People Plan   People & Pay\n\n\n\n    - And\, much more!\n\n\n\nThe workshop -- sponsored by Business Telephones\, Inc. and facilitated by Michael Smith of The Great\, The Good and The Gone -- will be on Wednesday\, September 7 from 11:30AM-2:00PM at the Chamber. There is no cost to attend\, but lunch is available for $10 per person for Chamber investors ($20 for "Future" investors).\n\n\n\nTo ensure we have a proper headcount\, please make reservations by noon on Friday\, September 2 for this workshop by contacting Payton Thomas\, the Chamber's Manager of Business Development & Support via e-mail at payton@shelbychamber.org or by calling 663-4542\, ext. 105 or register online.
X-ALT-DESC;FMTTYPE=text/html:<div style="text-align: center\;"><strong>Greater Shelby Chamber Go &amp\; Grow Workshop<br />\n&ldquo\;Entrepreneurship 101</strong><strong>&rdquo\;</strong></div>\n<br />\nWhether you&rsquo\;ve started your own business &ndash\; or are thinking about it -- September&rsquo\;s Go &amp\; Grow Workshop offers attendees valuable information on:<br />\n<br />\n&nbsp\;&nbsp\; &nbsp\;- What You Need To Know To Launch A Business\,<br />\n<br />\n&nbsp\;&nbsp\; &nbsp\;- Building A Money Plan &ndash\; Capital &amp\; Cash Flow\,<br />\n<br />\n&nbsp\;&nbsp\; &nbsp\;- Building A Sales &amp\; Marketing Plan\,&nbsp\;<br />\n<br />\n&nbsp\;&nbsp\; &nbsp\;- Building A People Plan &ndash\; People &amp\; Pay<br />\n<br />\n&nbsp\;&nbsp\; &nbsp\;- And\, much more!<br />\n<br />\nThe workshop -- sponsored by Business Telephones\, Inc. and facilitated by Michael Smith of The Great\, The Good and The Gone -- will be on <strong>Wednesday\, September 7</strong> from 11:30AM-2:00PM at the Chamber. There is no cost to attend\, but lunch is available for $10 per person for Chamber investors ($20 for &ldquo\;Future&rdquo\; investors).<br />\n<br />\nTo ensure we have a proper headcount\, please make reservations by noon on Friday\, September 2 for this workshop by contacting Payton Thomas\, the Chamber&rsquo\;s Manager of Business Development &amp\; Support via e-mail at payton@shelbychamber.org or by calling 663-4542\, ext. 105 or register online.
LOCATION:Greater Shelby Chamber 1301 County Services Dr. Pelham\, AL 35124
UID:e.145.9655
SEQUENCE:3
DTSTAMP:20260421T183951Z
URL:https://business.shelbychamber.org/events/details/greater-shelby-chamber-go-grow-entrepreneurship-101-09-07-2016-9655
END:VEVENT

END:VCALENDAR
