BEGIN:VCALENDAR
VERSION:2.0
PRODID:-//ChamberMaster//Event Calendar 2.0//EN
METHOD:PUBLISH
X-PUBLISHED-TTL:P3D
REFRESH-INTERVAL:P3D
CALSCALE:GREGORIAN
BEGIN:VEVENT
DTSTART:20161101T163000Z
DTEND:20161101T190000Z
X-MICROSOFT-CDO-ALLDAYEVENT:FALSE
SUMMARY:Greater Shelby Chamber - Go & Grow "Finish Hard & Start Fast"
DESCRIPTION:Greater Shelby Chamber Go & Grow Workshop\n\n"Finish Hard & Start Fast"\n\n\nThe November Go & Grow Workshop -- sponsored by Business Telephones\, Inc. and facilitated by Michael Smith of The Great\, The Good and The Gone -- will feature valuable information for business owners and managers on:\n\n\n\n    - Learning How To Make Sure You Finish 2016 Strong\,\n\n    - Making Sure You Have A Plan for 2017\,\n\n    - Reviewing How To Make Sure Your Actions Match Your Goals\,\n\n    - Keeping Your Team In the Game Mentally As Well As Physically\,\n\n    - And much\, much more!\n\n\n\nThe workshop will be on November 1 from 11:30AM-2:00PM at the Chamber. There is no cost to attend\, but lunch is available for $10 per person for Chamber investors ($20 for "Future" investors).\n\n\n\nTo ensure we have a proper headcount\, please make reservations for this workshop no later than noon on October 31 by contacting Payton Thomas\, the Chamber's Manager of Business Development & Support via e-mail at payton@shelbychamber.org\, calling 663-4542\, ext. 105 or register online.
X-ALT-DESC;FMTTYPE=text/html:<div style="text-align: center\;"><strong>Greater Shelby Chamber Go &amp\; Grow Workshop<br />\n&ldquo\;Finish Hard &amp\; Start Fast</strong><strong>&rdquo\;</strong></div>\n<br />\nThe November Go &amp\; Grow Workshop -- sponsored by Business Telephones\, Inc. and facilitated by Michael Smith of The Great\, The Good and The Gone -- will feature valuable information for business owners and managers on:<br />\n<br />\n&nbsp\;&nbsp\; &nbsp\;- Learning How To Make Sure You Finish 2016 Strong\,<br />\n&nbsp\;&nbsp\; &nbsp\;- Making Sure You Have A Plan for 2017\,<br />\n&nbsp\;&nbsp\; &nbsp\;- Reviewing How To Make Sure Your Actions Match Your Goals\,<br />\n&nbsp\;&nbsp\; &nbsp\;- Keeping Your Team In the Game Mentally As Well As Physically\,<br />\n&nbsp\;&nbsp\; &nbsp\;- And much\, much more!<br />\n<br />\nThe workshop will be on November 1 from 11:30AM-2:00PM at the Chamber. There is no cost to attend\, but lunch is available for $10 per person for Chamber investors ($20 for &ldquo\;Future&rdquo\; investors).<br />\n<br />\nTo ensure we have a proper headcount\, please make reservations for this workshop no later than noon on October 31 by contacting Payton Thomas\, the Chamber&rsquo\;s Manager of Business Development &amp\; Support via e-mail at payton@shelbychamber.org\, calling 663-4542\, ext. 105 or register online.
LOCATION:Greater Shelby Chamber 1301 County Services Dr. Pelham\, AL 35124
UID:e.145.9790
SEQUENCE:3
DTSTAMP:20260421T151419Z
URL:https://business.shelbychamber.org/events/details/greater-shelby-chamber-go-grow-finish-hard-start-fast-9790
END:VEVENT

END:VCALENDAR
