BEGIN:VCALENDAR
VERSION:2.0
PRODID:-//ChamberMaster//Event Calendar 2.0//EN
METHOD:PUBLISH
X-PUBLISHED-TTL:P3D
REFRESH-INTERVAL:P3D
CALSCALE:GREGORIAN
BEGIN:VEVENT
DTSTART:20160105T173000Z
DTEND:20160105T200000Z
X-MICROSOFT-CDO-ALLDAYEVENT:FALSE
SUMMARY:Greater Shelby Chamber - Go & Grow "How To Grow Your Business & Personal Sales 10% in 2016"
DESCRIPTION:Greater Shelby Chamber Go & Grow Workshop: "How To Grow Your Business & Personal Sales 10% in 2016"\n\n\n\nGrowing your business and increasing sales is something every organization talks about doing   but figuring out how to do it is challenging for all of us. On January 5\, the Chamber's Go & Grow Workshop -- sponsored by Business Telephones\, Inc. and facilitated by Michael Smith of The Great\, The Good and The Gone -- will provide strategies and action steps to achieve those results. Topics covered during this hands-on and interactive workshop include:\n\n\n\n- What You Can   and Can't -- Control\,\n\n- What You Need To Change\, Increase and Stop Doing To Make This Happen\,\n\n- The Magic Math That Makes This Happen\,\n\n- Who Do You Need for Your Team To Accomplish This and Who Needs To Go.\n\n\n\nThe workshop will be from 11:30AM until 2:00PM at the Chamber. There is no cost to attend\, but lunch is available for $10 per person for Chamber investors ($20 for "Future" investors).\n\n\n\nTo ensure we have a proper headcount\, please make reservations by January 4 for this workshop by contacting Payton Thomas\, the Chamber's Manager\, Business Development & Support via e-mail at payton@shelbychamber.org\, call 663-4542\, ext. 106 or register online.
X-ALT-DESC;FMTTYPE=text/html:<strong>Greater Shelby Chamber Go &amp\; Grow Workshop: &ldquo\;How To Grow Your Business &amp\; Personal Sales 10% in 2016&rdquo\;</strong><br />\n<br />\nGrowing your business and increasing sales is something every organization talks about doing &ndash\; but figuring out how to do it is challenging for all of us. On January 5\, the Chamber&rsquo\;s Go &amp\; Grow Workshop -- sponsored by Business Telephones\, Inc. and facilitated by Michael Smith of The Great\, The Good and The Gone -- will provide strategies and action steps to achieve those results. Topics covered during this hands-on and interactive workshop include:<br />\n<br />\n- What You Can &ndash\; and Can&rsquo\;t -- Control\,<br />\n- What You Need To Change\, Increase and Stop Doing To Make This Happen\,<br />\n- The Magic Math That Makes This Happen\,<br />\n- Who Do You Need for Your Team To Accomplish This&hellip\;and Who Needs To Go.<br />\n<br />\nThe workshop will be from 11:30AM until 2:00PM at the Chamber. There is no cost to attend\, but lunch is available for $10 per person for Chamber investors ($20 for &ldquo\;Future&rdquo\; investors).<br />\n<br />\nTo ensure we have a proper headcount\, please make reservations by January 4 for this workshop by contacting Payton Thomas\, the Chamber&rsquo\;s Manager\, Business Development &amp\; Support via e-mail at payton@shelbychamber.org\, call 663-4542\, ext. 106 or register online.
LOCATION:Greater Shelby Chamber 1301 County Services Dr.\, Pelham\, AL 35124
UID:e.145.8025
SEQUENCE:3
DTSTAMP:20260422T111421Z
URL:https://business.shelbychamber.org/events/details/greater-shelby-chamber-go-grow-how-to-grow-your-business-personal-sales-10-in-2016-01-05-2016-8025
END:VEVENT

END:VCALENDAR
