BEGIN:VCALENDAR
VERSION:2.0
PRODID:-//ChamberMaster//Event Calendar 2.0//EN
METHOD:PUBLISH
X-PUBLISHED-TTL:P3D
REFRESH-INTERVAL:P3D
CALSCALE:GREGORIAN
BEGIN:VEVENT
DTSTART:20140610T163000Z
DTEND:20140610T190000Z
X-MICROSOFT-CDO-ALLDAYEVENT:FALSE
SUMMARY:Greater Shelby Chamber - Go & Grow "How To Strategically Drive Marketing Sales"
DESCRIPTION:Go & Grow Workshop on "How To Strategically Drive Marketing & Sales"\n\n\n\nJoin us from 11:30AM until 2:00PM at the Chamber for our Go & Grow Workshop on "How To Strategically Drive Marketing & Sales" presented by the Chamber's Business Support Center and sponsored by Charter Business. Michael Smith\, of The Great\, The Good and The Gone\, will be sharing his expertise is the keynote. The workshop is geared for today's entrepreneurs and small businesses.  The investment for this workshop is $10 per person for Greater Shelby Chamber members ($20 for "Future" members) and includes lunch.\n\n\n\nBusinesses in attendance will learn:\n\n\n\n     How to strategically build a marketing plan that gets to your target market with little to no budget\,\n\n     How to grow your profits margin on your sales\,\n\n     What to measure and monitor to grow your results\, and\n\n     How to find prospects for your products.\n\n\n\nTo ensure we have a proper headcount\, please make reservations for this workshop via the Chamber's Register Online button above or by calling 663-4542.
X-ALT-DESC;FMTTYPE=text/html:<strong>Go &amp\; Grow Workshop on &ldquo\;How To Strategically Drive Marketing &amp\; Sales&rdquo\;</strong><br />\n<br />\nJoin us from 11:30AM until 2:00PM at the Chamber for our Go &amp\; Grow Workshop on &ldquo\;How To Strategically Drive Marketing &amp\; Sales&rdquo\; presented by the Chamber&#39\;s Business Support Center and sponsored by Charter Business. Michael Smith\,&nbsp\;of The Great\, The Good and The Gone\, will be sharing his expertise is the keynote. The workshop is geared for today&rsquo\;s entrepreneurs and small businesses.&nbsp\; The investment for this workshop is $10 per person for Greater Shelby Chamber members ($20 for &ldquo\;Future&rdquo\; members) and includes lunch.<br />\n<br />\nBusinesses in attendance will learn:<br />\n<br />\n&bull\;&nbsp\;&nbsp\; &nbsp\;How to strategically build a marketing plan that gets to your target market with little to no budget\,<br />\n&bull\;&nbsp\;&nbsp\; &nbsp\;How to grow your profits margin on your sales\,<br />\n&bull\;&nbsp\;&nbsp\; &nbsp\;What to measure and monitor to grow your results\, and<br />\n&bull\;&nbsp\;&nbsp\; &nbsp\;How to find prospects for your products.<br />\n<br />\nTo ensure we have a proper headcount\, please make reservations for this workshop via the Chamber&rsquo\;s Register Online button above or by calling 663-4542.
LOCATION:Greater Shelby Chamber 1301 County Services Dr.\, Pelham
UID:e.145.5496
SEQUENCE:3
DTSTAMP:20260423T151931Z
URL:https://business.shelbychamber.org/events/details/greater-shelby-chamber-go-grow-how-to-strategically-drive-marketing-sales-06-10-2014-5496
END:VEVENT

END:VCALENDAR
