BEGIN:VCALENDAR
VERSION:2.0
PRODID:-//ChamberMaster//Event Calendar 2.0//EN
METHOD:PUBLISH
X-PUBLISHED-TTL:P3D
REFRESH-INTERVAL:P3D
CALSCALE:GREGORIAN
BEGIN:VEVENT
DTSTART:20160202T173000Z
DTEND:20160202T200000Z
X-MICROSOFT-CDO-ALLDAYEVENT:FALSE
SUMMARY:Greater Shelby Chamber - Go & Grow "I Can't Hear You"
DESCRIPTION:Greater Shelby Chamber Go & Grow Workshop: ?I Can't Hear You?\n\n\n\nBreaking through the clutter to get your message across to customers\, employees and even business associates is a daily challenge.  On February 2\, the Chamber?s Go & Grow Workshop -- sponsored by Business Telephones\, Inc. and facilitated by Michael Smith of The Great\, The Good and The Gone -- will provide strategies and action steps to help you ? and your company ? be heard. Topics covered during this hands-on and interactive workshop include:\n\n\n\n    - How Do You Get People To Listen To You\,\n\n    - What Messaging Works Today\,\n\n    - Why Don't My People -- Or Customers Respond To Me?\n\n\n\nThe workshop will be from 11:30AM until 2:00PM at the Chamber. There is no cost to attend\, but lunch is available for $10 per person for Chamber investors ($20 for ?Future? investors).\n\n\n\nTo ensure we have a proper headcount\, please make reservations by February 1 for this workshop by contacting Payton Thomas\, the Chamber?s Manager of Business Development & Support via e-mail at payton@shelbychamber.org\, by calling 663-4542\, ext. 106 or register online.
X-ALT-DESC;FMTTYPE=text/html:<strong>Greater Shelby Chamber Go &amp\; Grow Workshop: ?I Can't Hear You?</strong><br>\n<br>\nBreaking through the clutter to get your message across to customers\, employees and even business associates is a daily challenge.&nbsp\; On February 2\, the Chamber?s Go &amp\; Grow Workshop -- sponsored by Business Telephones\, Inc. and facilitated by Michael Smith of The Great\, The Good and The Gone -- will provide strategies and action steps to help you ? and your company ? be heard. Topics covered during this hands-on and interactive workshop include:<br>\n<br>\n&nbsp\;&nbsp\; &nbsp\;- How Do You Get People To Listen To You\,<br>\n&nbsp\;&nbsp\; &nbsp\;- What Messaging Works Today\,<br>\n&nbsp\;&nbsp\; &nbsp\;- Why Don't My People -- Or Customers Respond To Me?<br>\n<br>\nThe workshop will be from 11:30AM until 2:00PM at the Chamber. There is no cost to attend\, but lunch is available for $10 per person for Chamber investors ($20 for ?Future? investors).<br>\n<br>\nTo ensure we have a proper headcount\, please make reservations by February 1 for this workshop by contacting Payton Thomas\, the Chamber?s Manager of Business Development &amp\; Support via e-mail at payton@shelbychamber.org\, by calling 663-4542\, ext. 106 or register online.
LOCATION:Greater Shelby Chamber 1301 County Services Dr.\, Pelham\, AL 35124
UID:e.145.8298
SEQUENCE:3
DTSTAMP:20260422T111155Z
URL:https://business.shelbychamber.org/events/details/greater-shelby-chamber-go-grow-i-can-t-hear-you-02-02-2016-8298
END:VEVENT

END:VCALENDAR
