BEGIN:VCALENDAR
VERSION:2.0
PRODID:-//ChamberMaster//Event Calendar 2.0//EN
METHOD:PUBLISH
X-PUBLISHED-TTL:P3D
REFRESH-INTERVAL:P3D
CALSCALE:GREGORIAN
BEGIN:VEVENT
DTSTART:20130306T163000Z
DTEND:20130306T180000Z
X-MICROSOFT-CDO-ALLDAYEVENT:FALSE
SUMMARY:Greater Shelby Chamber Go & Grow ~ Introduction to Government Contracting
DESCRIPTION:Go & Grow Workshop ~ Introduction to Government Contracting Seminar\n\n\n\n1. Introduction. We will deliver a two-hour workshop to introduce existing commercial businesses to the world of federal contracting. Our presentation will provide participants with the necessary information to seriously consider and decide whether they will pursue federal contracting with their businesses.\n\n\n\n2. Speaker. The speaker for this event is the state program manager\, Jerry Ellison\, for the Alabama Procurement Technical Assistance Center (PTAC) program who has years of experience in securing and managing government contracts.\n\n\n\nClick here for a PDF flier with complete details.\n\n\n\nWhen: Thursday\, March 6\, 2013\n\nTime:   10:30AM until 12:00PM\n\nWhere: Greater Shelby County Chamber of Commerce\, 1301 County Services Drive\, Pelham\n\nInvestment:  No charge.\n\nRegistration: Register Online button above.\n\nYou must register by March 4th to be guaranteed a seat and lunch.
X-ALT-DESC;FMTTYPE=text/html:<strong>Go &amp\; Grow Workshop ~ Introduction to Government Contracting Seminar</strong><br />\n<br />\n1. Introduction. We will deliver a two-hour workshop to introduce existing commercial businesses to the world of federal contracting. Our presentation will provide participants with the necessary information to seriously consider and decide whether they will pursue federal contracting with their businesses.<br />\n<br />\n2. Speaker. The speaker for this event is the state program manager\, Jerry Ellison\, for the Alabama Procurement Technical Assistance Center (PTAC) program who has years of experience in securing and managing government contracts.<br />\n<br />\n<a href="http://cloud.chambermaster.com/userfiles/UserFiles/chambers/145/File/Go_Grow_2013/IntrotoGovernmentContractingSeminar.pdf">Click here for a PDF flier with complete details.</a><br />\n<br />\n<strong>When</strong>: Thursday\, March 6\, 2013<br />\n<strong>Time</strong>:&nbsp\;&nbsp\; 10:30AM until 12:00PM<br />\n<strong>Where</strong>: Greater Shelby County Chamber of Commerce\, 1301 County Services Drive\, Pelham<br />\n<strong>Investment</strong>:&nbsp\; No charge.<br />\n<strong>Registration</strong>: Register Online button above.<br />\n<em><strong>You must register by March 4th to be guaranteed a seat and lunch.</strong></em>
LOCATION:Greater Shelby County Chamber of Commerce 1301 County Services Drive\, Pelham (205) 663-4542
UID:e.145.4542
SEQUENCE:3
DTSTAMP:20260424T153900Z
URL:https://business.shelbychamber.org/events/details/greater-shelby-chamber-go-grow-introduction-to-government-contracting-03-06-2013-4542
END:VEVENT

END:VCALENDAR
