BEGIN:VCALENDAR
VERSION:2.0
PRODID:-//ChamberMaster//Event Calendar 2.0//EN
METHOD:PUBLISH
X-PUBLISHED-TTL:P3D
REFRESH-INTERVAL:P3D
CALSCALE:GREGORIAN
BEGIN:VEVENT
DTSTART:20141007T163000Z
DTEND:20141007T190000Z
X-MICROSOFT-CDO-ALLDAYEVENT:FALSE
SUMMARY:Greater Shelby Chamber - Go & Grow "Managing The Money"
DESCRIPTION:Greater Shelby Chamber Go & Grow Workshop: "Managing The Money"\n\n\n\nManaging your business' finances can be one of the most challenging aspects for any owner or top manager.  On October 7\, the Chamber's Go & Grow Workshop -- sponsored by Charter Business and facilitated by Michael Smith of The Great\, The Good and The Gone -- will provide strategies and action steps for owners and top managers on managing their business' money. Topics covered during this hands-on and interactive workshop include:\n\n\n\n- How To Raise Capital\,\n\n- Managing Cash Flow\,\n\n- Owning Your Profit & Loss.\n\n\n\nThe workshop will be from 11:30AM-2:00PM at the Chamber. The investment for this workshop is $10 per person for Chamber members ($20 for "Future" members) and includes lunch.\n\n\n\nTo ensure we have a proper headcount\, please make reservations for this workshop by October 6 via the Chamber's Register Now button above or by calling 663-4542.
X-ALT-DESC;FMTTYPE=text/html:<strong>Greater Shelby Chamber Go &amp\; Grow Workshop: &ldquo\;Managing The Money&rdquo\;</strong><br />\n<br />\nManaging your business&rsquo\; finances can be one of the most challenging aspects for any owner or top manager.&nbsp\; On October 7\, the Chamber&rsquo\;s Go &amp\; Grow Workshop -- sponsored by Charter Business and facilitated by Michael Smith of The Great\, The Good and The Gone -- will provide strategies and action steps for owners and top managers on managing their business&rsquo\; money. Topics covered during this hands-on and interactive workshop include:<br />\n<br />\n- How To Raise Capital\,<br />\n- Managing Cash Flow\,<br />\n- Owning Your Profit &amp\; Loss.<br />\n<br />\nThe workshop will be from 11:30AM-2:00PM at the Chamber. The investment for this workshop is $10 per person for Chamber members ($20 for &ldquo\;Future&rdquo\; members) and includes lunch.<br />\n<br />\nTo ensure we have a proper headcount\, please make reservations for this workshop by October 6 via the Chamber&rsquo\;s Register Now button above or by calling 663-4542.
LOCATION:Greater Shelby Chamber 1301 County Services Dr.\, Pelham
UID:e.145.6244
SEQUENCE:3
DTSTAMP:20260423T091947Z
URL:https://business.shelbychamber.org/events/details/greater-shelby-chamber-go-grow-managing-the-money-10-07-2014-6244
END:VEVENT

END:VCALENDAR
