BEGIN:VCALENDAR
VERSION:2.0
PRODID:-//ChamberMaster//Event Calendar 2.0//EN
METHOD:PUBLISH
X-PUBLISHED-TTL:P3D
REFRESH-INTERVAL:P3D
CALSCALE:GREGORIAN
BEGIN:VEVENT
DTSTART:20140902T163000Z
DTEND:20140902T190000Z
X-MICROSOFT-CDO-ALLDAYEVENT:FALSE
SUMMARY:Greater Shelby Chamber - Go & Grow "Managing Your Staff To Greatness"
DESCRIPTION:Greater Shelby Chamber Go & Grow Workshop: Managing Your Staff To Greatness\n\n\n\nTeam Building isn't always a top priority for business owners and managers\, but managing your current staff to greatness should be.  On September 2\, the Chamber's Go & Grow Workshop -- sponsored by Charter Business and facilitated by Michael Smith of The Great\, The Good and The Gone -- will provide strategies and action steps for owners and managers building a GREAT team. Topics covered during this hands-on and interactive workshop include:\n\n\n\n- How To Be a GREAT Manager\,\n\n- Setting Expectations\,\n\n- Training\n\n- Correcting Behavior\,\n\n- Celebrating Success\n\n\n\nThe workshop will be from 11:30AM-2:00PM at the Chamber. The investment for this workshop is $10 per person for Chamber members ($20 for "Future" members) and includes lunch.\n\n\n\nTo ensure we have a proper headcount\, please make reservations for this workshop via the Chamber's Register Now button above or by calling 663-4542.
X-ALT-DESC;FMTTYPE=text/html:<strong>Greater Shelby Chamber Go &amp\; Grow Workshop: Managing Your Staff To Greatness</strong><br />\n<br />\nTeam Building isn&rsquo\;t always a top priority for business owners and managers\, but managing your current staff to greatness should be.&nbsp\; On September 2\, the Chamber&rsquo\;s Go &amp\; Grow Workshop -- sponsored by Charter Business and facilitated by Michael Smith of The Great\, The Good and The Gone -- will provide strategies and action steps for owners and managers building a GREAT team. Topics covered during this hands-on and interactive workshop include:<br />\n<br />\n- How To Be a GREAT Manager\,<br />\n- Setting Expectations\,<br />\n- Training<br />\n- Correcting Behavior\,<br />\n- Celebrating Success<br />\n<br />\nThe workshop will be from 11:30AM-2:00PM at the Chamber. The investment for this workshop is $10 per person for Chamber members ($20 for &ldquo\;Future&rdquo\; members) and includes lunch.<br />\n<br />\nTo ensure we have a proper headcount\, please make reservations for this workshop via the Chamber&rsquo\;s Register Now button above or by calling 663-4542.
LOCATION:Greater Shelby Chamber 1301 County Services Dr.\, Pelham
UID:e.145.6166
SEQUENCE:3
DTSTAMP:20260423T104323Z
URL:https://business.shelbychamber.org/events/details/greater-shelby-chamber-go-grow-managing-your-staff-to-greatness-09-02-2014-6166
END:VEVENT

END:VCALENDAR
