BEGIN:VCALENDAR
VERSION:2.0
PRODID:-//ChamberMaster//Event Calendar 2.0//EN
METHOD:PUBLISH
X-PUBLISHED-TTL:P3D
REFRESH-INTERVAL:P3D
CALSCALE:GREGORIAN
BEGIN:VEVENT
DTSTART:20170110T173000Z
DTEND:20170110T200000Z
X-MICROSOFT-CDO-ALLDAYEVENT:FALSE
SUMMARY:Greater Shelby Chamber - Go & Grow "Maximize Social Media to Your Advantage"
DESCRIPTION:Greater Shelby Chamber Go & Grow Workshop\n\n"Maximize Social Media to Your Advantage"\n\n\nStart the new year off right by learning how to maximize Linkedin and other social media platforms to your advantage. Business professionals (Human Resource Personnel\, Attorneys\, CPA's\, etc.) are encouraged to attend the Chamber's Go & Grow Workshop on Tuesday\, January 10 -- presented by Business Telephones\, Inc. and co-sponsored by Focal Point Coaching -- which will provide strategies and action steps to achieve those results. Topics covered during this hands-on and interactive workshop include:\n\n\n\n        How to use Linkedin and other social media to build your personal brand\,\n\n        How to find the next great hire on Linkedin - especially when they aren't looking for you\,\n\n        How to make heroes of your clients\, team mates\, and boss\,\n\n        When and how to post updates that get you attention\,\n\n        and much more!\n\n\n\nThe workshop\, facilitated by the Chamber's Entrepreneur-in-Residence\, Michael Smith of The Great\, The Good and The Gone\, will be from 11:30AM-2:00PM at the Chamber. There is no cost to attend\, but lunch is available for $10 per person for Chamber investors ($20 for "Future" investors).\n\n\n\nTo ensure we have a proper headcount\, please make reservations by January 9 for this workshop by contacting Payton Thomas\, the Chamber's Manager of Business Development & Support via e-mail at payton@shelbychamber.org or by calling 663-4542\, ext. 106. or register online.
X-ALT-DESC;FMTTYPE=text/html:<div style="text-align: center\;"><strong>Greater Shelby Chamber Go &amp\; Grow Workshop<br />\n&ldquo\;Maximize Social Media to Your Advantage</strong><strong>&rdquo\;</strong></div>\n<br />\nStart the new year off right by learning how to maximize Linkedin and other social media platforms to your advantage. Business professionals (Human Resource Personnel\, Attorneys\, CPA&#39\;s\, etc.) are encouraged to attend the Chamber&rsquo\;s Go &amp\; Grow Workshop on Tuesday\, January 10 -- presented by Business Telephones\, Inc. and co-sponsored by Focal Point Coaching -- which will provide strategies and action steps to achieve those results. Topics covered during this hands-on and interactive workshop include:<br />\n<br />\n&middot\; &nbsp\; &nbsp\; &nbsp\; How to use Linkedin and other social media to build your personal brand\,<br />\n&middot\; &nbsp\; &nbsp\; &nbsp\; How to find the next great hire on Linkedin - especially when they aren&rsquo\;t looking for you\,<br />\n&middot\; &nbsp\; &nbsp\; &nbsp\; How to make heroes of your clients\, team mates\, and boss\,<br />\n&middot\; &nbsp\; &nbsp\; &nbsp\; When and how to post updates that get you attention\,<br />\n&middot\; &nbsp\; &nbsp\; &nbsp\; and much more!<br />\n<br />\nThe workshop\, facilitated by the Chamber&rsquo\;s Entrepreneur-in-Residence\, Michael Smith of The Great\, The Good and The Gone\, will be from 11:30AM-2:00PM at the Chamber. There is no cost to attend\, but lunch is available for $10 per person for Chamber investors ($20 for &ldquo\;Future&rdquo\; investors).<br />\n<br />\nTo ensure we have a proper headcount\, please make reservations by January 9 for this workshop by contacting Payton Thomas\, the Chamber&rsquo\;s Manager of Business Development &amp\; Support via e-mail at payton@shelbychamber.org or by calling 663-4542\, ext. 106. or register online.
LOCATION:Greater Shelby Chamber 1301 County Services Dr. Pelham\, AL 35124
UID:e.145.9962
SEQUENCE:3
DTSTAMP:20260421T121601Z
URL:https://business.shelbychamber.org/events/details/greater-shelby-chamber-go-grow-maximize-social-media-to-your-advantage-9962
END:VEVENT

END:VCALENDAR
