BEGIN:VCALENDAR
VERSION:2.0
PRODID:-//ChamberMaster//Event Calendar 2.0//EN
METHOD:PUBLISH
X-PUBLISHED-TTL:P3D
REFRESH-INTERVAL:P3D
CALSCALE:GREGORIAN
BEGIN:VEVENT
DTSTART:20160802T163000Z
DTEND:20160802T190000Z
X-MICROSOFT-CDO-ALLDAYEVENT:FALSE
SUMMARY:Greater Shelby Chamber - Go & Grow "Pre-Season Practice Drills"
DESCRIPTION:Greater Shelby Chamber Go & Grow Workshop\n\n"Pre-Season Practice Drills"\n\n\nAs everyone gets back from their summer vacations\, now seems a perfect time to practice our business skills and hone our techniques. Attendees at the August Go & Grow Workshop will focus on role playing and practicing their personal skills in the areas of:\n\n\n\n- Phone Techniques\,\n\n\n\n- Networking Techniques\,\n\n\n\n- Presentation Techniques\,\n\n\n\n- Closing Techniques.\n\n\n\nThe workshop -- sponsored by Business Telephones\, Inc. and facilitated by Michael Smith of The Great\, The Good and The Gone -- will be on August 2 from 11:30AM until 2:00PM at the Chamber. There is no cost to attend the workshop\, but lunch is available for $10 per person for Chamber investors ($20 for "Future" investors).\n\n\n\nTo ensure we have a proper headcount\, please make reservations for this workshop by contacting Payton Thomas\, the Chamber's Manager of Business Development & Support via e-mail at payton@shelbychamber.org or by calling 663-4542\, ext. 106 or register online no later than noon on Monday\, August 1.
X-ALT-DESC;FMTTYPE=text/html:<div style="text-align: center\;"><strong>Greater Shelby Chamber Go &amp\; Grow Workshop<br />\n&ldquo\;Pre-Season Practice Drills&rdquo\;</strong></div>\n<br />\nAs everyone gets back from their summer vacations\, now seems a perfect time to practice our business skills and hone our techniques. Attendees at the August Go &amp\; Grow Workshop will focus on role playing and practicing their personal skills in the areas of:<br />\n<br />\n- Phone Techniques\,<br />\n<br />\n- Networking Techniques\,<br />\n<br />\n- Presentation Techniques\,<br />\n<br />\n- Closing Techniques.<br />\n<br />\nThe workshop -- sponsored by <a href="http://www.bticonnect.com">Business Telephones\, Inc</a>. and facilitated by Michael Smith of The Great\, The Good and The Gone -- will be on August 2 from 11:30AM until 2:00PM at the Chamber. There is no cost to attend the workshop\, but lunch is available for $10 per person for Chamber investors ($20 for &ldquo\;Future&rdquo\; investors).<br />\n<br />\nTo ensure we have a proper headcount\, please make reservations for this workshop by contacting Payton Thomas\, the Chamber&rsquo\;s Manager of Business Development &amp\; Support via e-mail at payton@shelbychamber.org or by calling 663-4542\, ext. 106 or register online no later than noon on Monday\, August 1.
LOCATION:Greater Shelby Chamber 1301 County Services Dr. Pelham\, AL 35124
UID:e.145.9647
SEQUENCE:3
DTSTAMP:20260421T234918Z
URL:https://business.shelbychamber.org/events/details/greater-shelby-chamber-go-grow-pre-season-practice-drills-08-02-2016-9647
END:VEVENT

END:VCALENDAR
