BEGIN:VCALENDAR
VERSION:2.0
PRODID:-//ChamberMaster//Event Calendar 2.0//EN
METHOD:PUBLISH
X-PUBLISHED-TTL:P3D
REFRESH-INTERVAL:P3D
CALSCALE:GREGORIAN
BEGIN:VEVENT
DTSTART:20160503T163000Z
DTEND:20160503T190000Z
X-MICROSOFT-CDO-ALLDAYEVENT:FALSE
SUMMARY:Greater Shelby Chamber - Go & Grow "Presentation Prowess"
DESCRIPTION:Greater Shelby Chamber Go & Grow Workshop: "Presentation Prowess"\n\n\n\nWhether you're in sales or management your ability to present ideas in a way that gets people's attention   and action   is a key skill to success. The May Go & Grow Workshop focuses on "Presentation Prowess".\n\n\n\nTopics covered during this hands-on and interactive workshop include:\n\n\n\n    - Learn How To Present Your Ideas & Keep People Engaged\,\n\n    - Build Sales Presentations That Lead To YES\,\n\n    - Develop Your Ability To Lead A Meeting People Want To Be In\,\n\n    - How You Communicate Is What Usually Determines Whether People Will Act On Your Ideas.\n\n\n\nThe workshop -- sponsored by Business Telephone\, Inc. and facilitated by Michael Smith of The Great\, The Good and The Gone -- will be on May 3 from 11:30AM until 2:00PM at the Chamber. There is no cost to attend\, but lunch is available for $10 per person for Chamber investors ($20 for "Future" investors).\n\n\n\nTo ensure we have a proper headcount\, please make reservations for this workshop by contacting Payton Thomas\, the Chamber's Manager of Business Development & Support via e-mail at payton@shelbychamber.org or by calling 663-4542\, ext. 106 or register online at shelbychamber.org no later than noon on Monday\, May 2.
X-ALT-DESC;FMTTYPE=text/html:<strong>Greater Shelby Chamber Go &amp\; Grow Workshop: &ldquo\;Presentation Prowess&rdquo\;</strong><br />\n<br />\nWhether you&rsquo\;re in sales or management your ability to present ideas in a way that gets people&rsquo\;s attention &ndash\; and action &ndash\; is a key skill to success. The May Go &amp\; Grow Workshop focuses on &ldquo\;Presentation Prowess&rdquo\;.<br />\n<br />\nTopics covered during this hands-on and interactive workshop include:<br />\n<br />\n&nbsp\;&nbsp\; &nbsp\;- Learn How To Present Your Ideas &amp\; Keep People Engaged\,<br />\n&nbsp\;&nbsp\; &nbsp\;- Build Sales Presentations That Lead To YES\,<br />\n&nbsp\;&nbsp\; &nbsp\;- Develop Your Ability To Lead A Meeting People Want To Be In\,<br />\n&nbsp\;&nbsp\; &nbsp\;- How You Communicate Is What Usually Determines Whether People Will Act On Your Ideas.<br />\n<br />\nThe workshop -- sponsored by Business Telephone\, Inc. and facilitated by Michael Smith of The Great\, The Good and The Gone -- will be on May 3 from 11:30AM until 2:00PM at the Chamber. There is no cost to attend\, but lunch is available for $10 per person for Chamber investors ($20 for &ldquo\;Future&rdquo\; investors).<br />\n<br />\nTo ensure we have a proper headcount\, please make reservations for this workshop by contacting Payton Thomas\, the Chamber&rsquo\;s Manager of Business Development &amp\; Support via e-mail at payton@shelbychamber.org or by calling 663-4542\, ext. 106 or register online at shelbychamber.org no later than noon on Monday\, May 2.
LOCATION:Greater Shelby Chamber 1301 County Services Dr.\, Pelham\, AL 35124
UID:e.145.9478
SEQUENCE:3
DTSTAMP:20260422T045210Z
URL:https://business.shelbychamber.org/events/details/greater-shelby-chamber-go-grow-presentation-prowess-05-03-2016-9478
END:VEVENT

END:VCALENDAR
