BEGIN:VCALENDAR
VERSION:2.0
PRODID:-//ChamberMaster//Event Calendar 2.0//EN
METHOD:PUBLISH
X-PUBLISHED-TTL:P3D
REFRESH-INTERVAL:P3D
CALSCALE:GREGORIAN
BEGIN:VEVENT
DTSTART:20140715T163000Z
DTEND:20140715T190000Z
X-MICROSOFT-CDO-ALLDAYEVENT:FALSE
SUMMARY:Greater Shelby Chamber - Go & Grow "Strategies for Building Great Teams"
DESCRIPTION:Go & Grow Workshop "Strategies for Building Great Teams"\n\n\n\nBuilding a GREAT team is challenging for just about every business   and especially so for small businesses.  On July 15\, the Chamber is hosting a workshop that can provide some relief for small business owners and team managers. Attendees for this hands-on and interactive workshop will learn:\n\n\n\n- When & How to Hire\n\n- Finding Great People\n\n- Keeping Great People on Your Team\n\n- When and How to Correct & Celebrate with Your People\n\n\n\nThe workshop will be from 11:30AM until 2:00PM at the Chamber. The investment for this workshop is $10 per person for Chamber members ($20 for "Future" members) and includes lunch.\n\n\n\nTo ensure we have a proper headcount\, please make reservations for this workshop via the Chamber's Register Online button above or by calling 663-4542.
X-ALT-DESC;FMTTYPE=text/html:<strong>Go &amp\; Grow Workshop &quot\;Strategies for Building Great Teams&quot\;</strong><br />\n<br />\nBuilding a GREAT team is challenging for just about every business &ndash\; and especially so for small businesses.&nbsp\; On July 15\, the Chamber is hosting a workshop that can provide some relief for small business owners and team managers. Attendees for this hands-on and interactive workshop will learn:<br />\n<br />\n- When &amp\; How to Hire<br />\n- Finding Great People<br />\n- Keeping Great People on Your Team<br />\n- When and How to Correct &amp\; Celebrate with Your People<br />\n<br />\nThe workshop will be from 11:30AM until 2:00PM at the Chamber. The investment for this workshop is $10 per person for Chamber members ($20 for &ldquo\;Future&rdquo\; members) and includes lunch.<br />\n<br />\nTo ensure we have a proper headcount\, please make reservations for this workshop via the Chamber&rsquo\;s Register Online button above or by calling 663-4542.
LOCATION:Greater Shelby Chamber 1301 County Services Dr.\, Pelham
UID:e.145.5659
SEQUENCE:3
DTSTAMP:20260423T133932Z
URL:https://business.shelbychamber.org/events/details/greater-shelby-chamber-go-grow-strategies-for-building-great-teams-07-15-2014-5659
END:VEVENT

END:VCALENDAR
