BEGIN:VCALENDAR
VERSION:2.0
PRODID:-//ChamberMaster//Event Calendar 2.0//EN
METHOD:PUBLISH
X-PUBLISHED-TTL:P3D
REFRESH-INTERVAL:P3D
CALSCALE:GREGORIAN
BEGIN:VEVENT
DTSTART:20150210T173000Z
DTEND:20150210T200000Z
X-MICROSOFT-CDO-ALLDAYEVENT:FALSE
SUMMARY:Greater Shelby Chamber - Go & Grow "Using Media To Grow Your Business"
DESCRIPTION:Greater Shelby Chamber Go & Grow Workshop: "Using Media To Grow Your Business"\n\n\n\nOn February 10\, the Chamber's Go & Grow Workshop -- sponsored by Charter Business and facilitated by Michael Smith of The Great\, The Good and The Gone -- will provide strategies and action steps for attendees to use various forms of media to grow their business. Topics covered during this hands-on and interactive workshop include:\n\n\n\n- How To Use the Media To Find Opportunities To Grow Your Business\n\n- Once Opportunities Are Identified\, How Do You Engage Them\,\n\n- Where Does Your Social Media Program Come Into Play\,\n\n- How Do You Use Media To Help Get Your Message and Name Out\n\n\n\nThe workshop will be on Tuesday\, February 10 from 11:30AM until 2:00PM at the Chamber. There is no cost to attend\, but lunch is available for $10 per person for Chamber members ($20 for "Future" members).\n\n\n\nTo ensure we have a proper headcount\, please make reservations by Monday\, February 9 for this workshop. Register online or by contact Brooke Story\, the Chamber's Director of Business Development & Support via e-mail at brooke@shelbychamber.org or by calling 663-4542\, ext. 105.
X-ALT-DESC;FMTTYPE=text/html:<strong>Greater Shelby Chamber Go &amp\; Grow Workshop: &ldquo\;Using Media To Grow Your Business&rdquo\;</strong><br />\n<br />\nOn February 10\, the Chamber&rsquo\;s Go &amp\; Grow Workshop -- sponsored by Charter Business and facilitated by Michael Smith of The Great\, The Good and The Gone -- will provide strategies and action steps for attendees to use various forms of media to grow their business. Topics covered during this hands-on and interactive workshop include:<br />\n<br />\n- How To Use the Media To Find Opportunities To Grow Your Business<br />\n- Once Opportunities Are Identified\, How Do You Engage Them\,<br />\n- Where Does Your Social Media Program Come Into Play\,<br />\n- How Do You Use Media To Help Get Your Message and Name Out<br />\n<br />\nThe workshop will be on Tuesday\, February 10 from 11:30AM until 2:00PM at the Chamber. There is no cost to attend\, but lunch is available for $10 per person for Chamber members ($20 for &ldquo\;Future&rdquo\; members).<br />\n<br />\nTo ensure we have a proper headcount\, please make reservations by Monday\, February 9 for this workshop. Register online or by contact Brooke Story\, the Chamber&rsquo\;s Director of Business Development &amp\; Support via e-mail at <a href="mailto:brooke@shelbychamber.org?subject=Go%20%26%20Grow%20February%2010">brooke@shelbychamber.org</a> or by calling 663-4542\, ext. 105.
LOCATION:Greater Shelby Chamber 1301 County Services Dr.\, Pelham
UID:e.145.7193
SEQUENCE:3
DTSTAMP:20260423T050642Z
URL:https://business.shelbychamber.org/events/details/greater-shelby-chamber-go-grow-using-media-to-grow-your-business-02-10-2015-7193
END:VEVENT

END:VCALENDAR
