BEGIN:VCALENDAR
VERSION:2.0
PRODID:-//ChamberMaster//Event Calendar 2.0//EN
METHOD:PUBLISH
X-PUBLISHED-TTL:P3D
REFRESH-INTERVAL:P3D
CALSCALE:GREGORIAN
BEGIN:VEVENT
DTSTART:20150908T163000Z
DTEND:20150908T190000Z
X-MICROSOFT-CDO-ALLDAYEVENT:FALSE
SUMMARY:Greater Shelby Chamber - Go & Grow Workshop: "Being the Boss"
DESCRIPTION:Greater Shelby Chamber Go & Grow Workshop: "Being The Boss"\n\n\n\nThe September Go & Grow Workshop -- sponsored by Spectrum Business and facilitated by Michael Smith of The Great\, The Good and The Gone -- will provide strategies and action steps for top managers\, owners   or anyone that wants to attain those roles with their companies -- to achieve GREATNESS.  Topics covered during this hands-on and interactive workshop include:\n\n\n\n- How Do You Go from Being One of the Team To Being the Boss\,\n\n- What Separates GREAT Bosses from the Pack\,\n\n- How Do You Become that GREAT Boss You Always Wanted To Work For?\,\n\n- And More!\n\n\n\nThe workshop will be on September 8 from 11:30AM-2:00PM at the Chamber. There is no cost to attend\, but lunch is available for $10 per person for Chamber members ($20 for "Future" members).\n\n\n\nTo ensure we have a proper headcount\, please make reservations for this workshop Friday\, September 4 by contacting Brooke White\, the Chamber's Director of Business Development & Support via e-mail at brooke@shelbychamber.org or by calling 663-4542\, ext. 105 or register online.
X-ALT-DESC;FMTTYPE=text/html:<strong>Greater Shelby Chamber Go &amp\; Grow Workshop: &ldquo\;Being The Boss&rdquo\;</strong><br />\n<br />\nThe September Go &amp\; Grow Workshop -- sponsored by Spectrum Business and facilitated by Michael Smith of The Great\, The Good and The Gone -- will provide strategies and action steps for top managers\, owners &ndash\; or anyone that wants to attain those roles with their companies -- to achieve GREATNESS.&nbsp\; Topics covered during this hands-on and interactive workshop include:<br />\n<br />\n- How Do You Go from Being One of the Team To Being the Boss\,<br />\n- What Separates GREAT Bosses from the Pack\,<br />\n- How Do You Become that GREAT Boss You Always Wanted To Work For?\,<br />\n- And More!<br />\n<br />\nThe workshop will be on September 8 from 11:30AM-2:00PM at the Chamber. There is no cost to attend\, but lunch is available for $10 per person for Chamber members ($20 for &ldquo\;Future&rdquo\; members).<br />\n<br />\nTo ensure we have a proper headcount\, please make reservations for this workshop Friday\, September 4 by contacting Brooke White\, the Chamber&rsquo\;s Director of Business Development &amp\; Support via e-mail at brooke@shelbychamber.org or by calling 663-4542\, ext. 105 or register online.
LOCATION:Greater Shelby Chamber Office 1301 County Services Drive Pelham\, AL 35124 663-4542
UID:e.145.7786
SEQUENCE:3
DTSTAMP:20260422T171913Z
URL:https://business.shelbychamber.org/events/details/greater-shelby-chamber-go-grow-workshop-being-the-boss-09-08-2015-7786
END:VEVENT

END:VCALENDAR
