BEGIN:VCALENDAR
VERSION:2.0
PRODID:-//ChamberMaster//Event Calendar 2.0//EN
METHOD:PUBLISH
X-PUBLISHED-TTL:P3D
REFRESH-INTERVAL:P3D
CALSCALE:GREGORIAN
BEGIN:VEVENT
DTSTART:20151110T173000Z
DTEND:20151110T200000Z
X-MICROSOFT-CDO-ALLDAYEVENT:FALSE
SUMMARY:Greater Shelby Chamber - Go & Grow Workshop: "Building Success"
DESCRIPTION:Greater Shelby Chamber Go & Grow Workshop: "Building Success"\n\n\n\nThe November Go & Grow Workshop -- sponsored by Spectrum Business and facilitated by Michael Smith of The Great\, The Good and The Gone -- will feature award-winning serial entrepreneur Glenn Phillips.  Glenn is a published author\, and currently CEO of one of the Birmingham Business Journal's 10 fastest growing companies.  Attendees will gain insight into what it takes to be a successful entrepreneur and how to build a GREAT company.\n\n\n\nThe workshop will be on November 10 from 11:30AM-2:00PM at the Chamber. There is no cost to attend\, but lunch is available for $10 per person for Chamber members ($20 for "Future" members).\n\n\n\nTo ensure we have a proper headcount\, please make reservations for this workshop by contacting Brooke White\, the Chamber's Director of Business Development & Support via e-mail at brooke@shelbychamber.org or by calling 663-4542\, ext. 105 or use online registration above.
X-ALT-DESC;FMTTYPE=text/html:<strong>Greater Shelby Chamber Go &amp\; Grow Workshop: &ldquo\;Building Success&rdquo\;</strong><br />\n<br />\nThe November Go &amp\; Grow Workshop -- sponsored by Spectrum Business and facilitated by Michael Smith of The Great\, The Good and The Gone -- will feature award-winning serial entrepreneur Glenn Phillips.&nbsp\; Glenn is a published author\, and currently CEO of one of the Birmingham Business Journal&rsquo\;s 10 fastest growing companies.&nbsp\; Attendees will gain insight into what it takes to be a successful entrepreneur and how to build a GREAT company.<br />\n<br />\nThe workshop will be on November 10 from 11:30AM-2:00PM at the Chamber. There is no cost to attend\, but lunch is available for $10 per person for Chamber members ($20 for &ldquo\;Future&rdquo\; members).<br />\n<br />\nTo ensure we have a proper headcount\, please make reservations for this workshop by contacting Brooke White\, the Chamber&rsquo\;s Director of Business Development &amp\; Support via e-mail at brooke@shelbychamber.org or by calling 663-4542\, ext. 105 or use online registration above.
LOCATION:Greater Shelby Chamber Office 1301 County Services Drive Pelham\, AL 35124 663-4542
UID:e.145.7929
SEQUENCE:3
DTSTAMP:20260422T140754Z
URL:https://business.shelbychamber.org/events/details/greater-shelby-chamber-go-grow-workshop-building-success-11-10-2015-7929
END:VEVENT

END:VCALENDAR
