BEGIN:VCALENDAR
VERSION:2.0
PRODID:-//ChamberMaster//Event Calendar 2.0//EN
METHOD:PUBLISH
X-PUBLISHED-TTL:P3D
REFRESH-INTERVAL:P3D
CALSCALE:GREGORIAN
BEGIN:VEVENT
DTSTART:20150310T163000Z
DTEND:20150310T190000Z
X-MICROSOFT-CDO-ALLDAYEVENT:FALSE
SUMMARY:Greater Shelby Chamber - Go & Grow Workshop: "Creating Messages That Work"
DESCRIPTION:Greater Shelby Chamber Go & Grow Workshop: "Creating Messages That Work"\n\n\n\nOn March 10\, the Chamber's Go & Grow Workshop -- sponsored by Charter Business and facilitated by Michael Smith of The Great\, The Good and The Gone -- will provide strategies and action steps for attendees to create and deliver messages that will grow their business. Topics covered during this hands-on and interactive workshop include:\n\n\n\n- Learning How To Create Messages That Get Action\,\n\n- Making Messages That Get To The People You Want To Hear Them\,\n\n- How To Win The Mind Share War With Your Chosen Audience\,\n\n- Building A Message Took Kit That Works For You on Multiple Platforms\n\n- And More!\n\n\n\nThe workshop will be from 11:30AM until 2:00PM at the Chamber. There is no cost to attend\, but lunch is available for $10 per person for Chamber members ($20 for "Future" members).\n\n\n\nTo ensure we have a proper headcount\, please make reservations for this workshop by March 9. Register online or by contacting Brooke Story\, the Chamber's Director of Business Development & Support via e-mail at brooke@shelbychamber.org\, by calling 663-4542\, ext. 105.
X-ALT-DESC;FMTTYPE=text/html:<strong>Greater Shelby Chamber Go &amp\; Grow Workshop: &ldquo\;Creating Messages That Work&rdquo\;</strong><br />\n<br />\nOn March 10\, the Chamber&rsquo\;s Go &amp\; Grow Workshop -- sponsored by Charter Business and facilitated by Michael Smith of The Great\, The Good and The Gone -- will provide strategies and action steps for attendees to create and deliver messages that will grow their business. Topics covered during this hands-on and interactive workshop include:<br />\n<br />\n- Learning How To Create Messages That Get Action\,<br />\n- Making Messages That Get To The People You Want To Hear Them\,<br />\n- How To Win The Mind Share War With Your Chosen Audience\,<br />\n- Building A Message Took Kit That Works For You on Multiple Platforms<br />\n- And More!<br />\n<br />\nThe workshop will be from 11:30AM until 2:00PM at the Chamber. There is no cost to attend\, but lunch is available for $10 per person for Chamber members ($20 for &ldquo\;Future&rdquo\; members).<br />\n<br />\nTo ensure we have a proper headcount\, please make reservations for this workshop by March 9. Register online or by contacting Brooke Story\, the Chamber&rsquo\;s Director of Business Development &amp\; Support via e-mail at brooke@shelbychamber.org\, by calling 663-4542\, ext. 105.
LOCATION:Greater Shelby Chamber 1301 County Services Drive Pelham\, AL 35124
UID:e.145.7194
SEQUENCE:3
DTSTAMP:20260423T021307Z
URL:https://business.shelbychamber.org/events/details/greater-shelby-chamber-go-grow-workshop-creating-messages-that-work-03-10-2015-7194
END:VEVENT

END:VCALENDAR
