BEGIN:VCALENDAR
VERSION:2.0
PRODID:-//ChamberMaster//Event Calendar 2.0//EN
METHOD:PUBLISH
X-PUBLISHED-TTL:P3D
REFRESH-INTERVAL:P3D
CALSCALE:GREGORIAN
BEGIN:VEVENT
DTSTART:20150512T163000Z
DTEND:20150512T190000Z
X-MICROSOFT-CDO-ALLDAYEVENT:FALSE
SUMMARY:Greater Shelby Chamber - Go & Grow Workshop: "Fueling The Urgency To Act in Others"
DESCRIPTION:Greater Shelby Chamber Go & Grow Workshop: "Fueling The Urgency To Act in Others"\n\n\n\nWe're all passionate about certain things that are important to us\, but how do we fuel that urgency in others to get them to act?  On May 12\, the Chamber is hosting a workshop that can provide business owners and managers with specific ways to encourage their employees and associates to share their passion and make things happen. Attendees for this hands-on and interactive workshop will learn:\n\n\n\n- What Makes People Act on Ideas?\n\n- How Do Your Turn Prospects into Clients Now?\n\n- How Do You Build Urgency To Act in Others Without Turning Them Off?\n\n- Getting the People That Work for You & With You To Make Things Happen.\n\n\n\nThe workshop\, sponsored by Spectrum Business and facilitated by the Chamber's "Entrepreneur-in-Residence" Michel Smith with The GREAT\, The GOOD and The GONE\, will be from 11:30AM-2:00PM at the Chamber. There is no charge to attend the workshop\, but lunch is available for $10 per person for Chamber members ($20 for "Future" members).\n\n\n\nTo ensure we have a proper headcount\, please make reservations for this workshop by May 11 via the online registration button above or by calling 663-4542.
X-ALT-DESC;FMTTYPE=text/html:<strong>Greater Shelby Chamber Go &amp\; Grow Workshop: &ldquo\;Fueling The Urgency To Act in Others&rdquo\;</strong><br />\n<br />\nWe&rsquo\;re all passionate about certain things that are important to us\, but how do we fuel that urgency in others to get them to act?&nbsp\; On May 12\, the Chamber is hosting a workshop that can provide business owners and managers with specific ways to encourage their employees and associates to share their passion and make things happen. Attendees for this hands-on and interactive workshop will learn:<br />\n<br />\n- What Makes People Act on Ideas?<br />\n- How Do Your Turn Prospects into Clients Now?<br />\n- How Do You Build Urgency To Act in Others Without Turning Them Off?<br />\n- Getting the People That Work for You &amp\; With You To Make Things Happen.<br />\n<br />\nThe workshop\, sponsored by Spectrum Business and facilitated by the Chamber&rsquo\;s &ldquo\;Entrepreneur-in-Residence&rdquo\; Michel Smith with The GREAT\, The GOOD and The GONE\, will be from 11:30AM-2:00PM at the Chamber. There is no charge to attend the workshop\, but lunch is available for $10 per person for Chamber members ($20 for &ldquo\;Future&rdquo\; members).<br />\n<br />\nTo ensure we have a proper headcount\, please make reservations for this workshop by May 11 via the online registration button above or by calling 663-4542.
LOCATION:Greater Shelby Chamber 1301 County Services Drive Pelham\, AL 35124
UID:e.145.7630
SEQUENCE:3
DTSTAMP:20260422T231433Z
URL:https://business.shelbychamber.org/events/details/greater-shelby-chamber-go-grow-workshop-fueling-the-urgency-to-act-in-others-05-12-2015-7630
END:VEVENT

END:VCALENDAR
