BEGIN:VCALENDAR
VERSION:2.0
PRODID:-//ChamberMaster//Event Calendar 2.0//EN
METHOD:PUBLISH
X-PUBLISHED-TTL:P3D
REFRESH-INTERVAL:P3D
CALSCALE:GREGORIAN
BEGIN:VEVENT
DTSTART:20150609T163000Z
DTEND:20150609T190000Z
X-MICROSOFT-CDO-ALLDAYEVENT:FALSE
SUMMARY:Greater Shelby Chamber - Go & Grow Workshop: "How To Drive Recognition To Results"
DESCRIPTION:Greater Shelby Chamber Go & Grow Workshop: "How To Drive Recognition To Results"\n\n\n\nThis month's Go & Grow Workshop -- sponsored by Spectrum Business and facilitated by Michael Smith of The GREAT\, The GOOD and The GONE -- will provide strategies and action steps to ensure that your organization is building measurable results & sales as you're growing your business.  Topics covered during this hands-on and interactive workshop include:\n\n\n\n- How To Use Social Media Tools to Get Appointments\,\n\n- Building Your Brand So That It Builds Your Revenue\,\n\n- Ways To Make Heroes That Get You To Your Goals\,\n\n- And More!\n\n\n\nThe workshop will be from 11:30AM until 2:00PM at the Chamber.\n\n\n\nInvestment: There is no cost to attend the workshop\, but lunch is available for Chamber members @ $10 per person and $20 per person for "Future" members.\n\n\n\nTo ensure we have a proper headcount\, please make reservations for this workshop by June 8. Register online above or by contacting Brooke Story\, the Chamber's Director of Business Development & Support via e-mail at brooke@shelbychamber.org\, by calling 663-4542\, ext. 105.
X-ALT-DESC;FMTTYPE=text/html:<strong>Greater Shelby Chamber Go &amp\; Grow Workshop: &ldquo\;How To Drive Recognition To Results&rdquo\;</strong><br />\n<br />\nThis month&rsquo\;s Go &amp\; Grow Workshop -- sponsored by Spectrum Business and facilitated by Michael Smith of The GREAT\, The GOOD and The GONE -- will provide strategies and action steps to ensure that your organization is building measurable results &amp\; sales as you&rsquo\;re growing your business.&nbsp\; Topics covered during this hands-on and interactive workshop include:<br />\n<br />\n- How To Use Social Media Tools to Get Appointments\,<br />\n- Building Your Brand So That It Builds Your Revenue\,<br />\n- Ways To Make Heroes That Get You To Your Goals\,<br />\n- And More!<br />\n<br />\nThe workshop will be from 11:30AM until 2:00PM at the Chamber.<br />\n<br />\nInvestment: There is no cost to attend the workshop\, but lunch is available for Chamber members @ $10 per person and $20 per person for &ldquo\;Future&rdquo\; members.<br />\n<br />\nTo ensure we have a proper headcount\, please make reservations for this workshop by June 8. Register online above or by contacting Brooke Story\, the Chamber&rsquo\;s Director of Business Development &amp\; Support via e-mail at brooke@shelbychamber.org\, by calling 663-4542\, ext. 105.
LOCATION:Greater Shelby Chamber Office 1301 County Services Drive Pelham\, AL 35124 663-4542
UID:e.145.7665
SEQUENCE:3
DTSTAMP:20260422T213159Z
URL:https://business.shelbychamber.org/events/details/greater-shelby-chamber-go-grow-workshop-how-to-drive-recognition-to-results-06-09-2015-7665
END:VEVENT

END:VCALENDAR
