BEGIN:VCALENDAR
VERSION:2.0
PRODID:-//ChamberMaster//Event Calendar 2.0//EN
METHOD:PUBLISH
X-PUBLISHED-TTL:P3D
REFRESH-INTERVAL:P3D
CALSCALE:GREGORIAN
BEGIN:VEVENT
DTSTART:20151013T163000Z
DTEND:20151013T190000Z
X-MICROSOFT-CDO-ALLDAYEVENT:FALSE
SUMMARY:Greater Shelby Chamber - Go & Grow Workshop: "Making Time To Be Great"
DESCRIPTION:Greater Shelby Chamber Go & Grow Workshop: "Making Time To Be Great"\n\n\n\nThe Chamber's "Go & Grow" Workshop series continues to provide valuable strategies and action steps for top managers\, owners   or anyone that wants to attain those roles with their companies -- to achieve GREATNESS.  Topics covered this month during the hands-on and interactive workshop include:\n\n\n\n- Learn How To Work Your Day Not Have Your Day Work You\n\n- How To Make "Me" Time at Work To Spend Time Becoming GREAT\n\n- How To Make Technology Work for You and Not Be Mastered By It\n\n- And More!\n\n\n\nThis next workshop led my Michael Smith of The Great\, The Good and The Gone will be held on October 13 from 11:30AM-2:00PM at the Chamber. There is no cost to attend\, but lunch is available for $10 per person for Chamber members ($20 for "Future" members).\n\n\n\nTo ensure we have a proper headcount\, please make reservations for this workshop by contacting Brooke White\, the Chamber's Director of Business Development & Support via e-mail at brooke@shelbychamber.org \, call 663-4542\, ext. 105 or us online registration above.
X-ALT-DESC;FMTTYPE=text/html:<strong>Greater Shelby Chamber Go &amp\; Grow Workshop: &ldquo\;Making Time To Be Great&rdquo\;</strong><br />\n<br />\nThe Chamber&rsquo\;s &ldquo\;Go &amp\; Grow&rdquo\; Workshop series continues to provide valuable strategies and action steps for top managers\, owners &ndash\; or anyone that wants to attain those roles with their companies -- to achieve GREATNESS.&nbsp\; Topics covered this month during the hands-on and interactive workshop include:<br />\n<br />\n- Learn How To Work Your Day&hellip\;Not Have Your Day Work You<br />\n- How To Make &ldquo\;Me&rdquo\; Time at Work To Spend Time Becoming GREAT<br />\n- How To Make Technology Work for You and Not Be Mastered By It<br />\n- And More!<br />\n<br />\nThis next workshop led my Michael Smith of The Great\, The Good and The Gone will be held on October 13 from 11:30AM-2:00PM at the Chamber. There is no cost to attend\, but lunch is available for $10 per person for Chamber members ($20 for &ldquo\;Future&rdquo\; members).<br />\n<br />\nTo ensure we have a proper headcount\, please make reservations for this workshop by contacting Brooke White\, the Chamber&rsquo\;s Director of Business Development &amp\; Support via e-mail at brooke@shelbychamber.org \, call 663-4542\, ext. 105 or us online registration above.
LOCATION:Greater Shelby Chamber Office 1301 County Services Drive Pelham\, AL 35124 663-4542
UID:e.145.7897
SEQUENCE:3
DTSTAMP:20260422T171252Z
URL:https://business.shelbychamber.org/events/details/greater-shelby-chamber-go-grow-workshop-making-time-to-be-great-10-13-2015-7897
END:VEVENT

END:VCALENDAR
