BEGIN:VCALENDAR
VERSION:2.0
PRODID:-//ChamberMaster//Event Calendar 2.0//EN
METHOD:PUBLISH
X-PUBLISHED-TTL:P3D
REFRESH-INTERVAL:P3D
CALSCALE:GREGORIAN
BEGIN:VEVENT
DTSTART:20150811T163000Z
DTEND:20150811T190000Z
X-MICROSOFT-CDO-ALLDAYEVENT:FALSE
SUMMARY:Greater Shelby Chamber - Go & Grow Workshop: "Sales Management Success"
DESCRIPTION:Greater Shelby Chamber Go & Grow Workshop: "Sales Management Success"\n\n\n\nThe August Go & Grow Workshop -- sponsored by Spectrum Business and facilitated by Michael Smith of The Great\, The Good and The Gone -- will provide strategies and action steps on how to manage yourself   or an entire team   to greatness.  Topics covered during this hands-on and interactive workshop include:\n\n\n\n- Building Action Plans\,\n\n- Training Programs That Work\,\n\n- Knowing What To Track & How To Give Feedback\,\n\n- Rewarding & Recognizing To Build Results\,\n\n- And More!\n\n\n\nThe workshop will be on August 11 from 11:30AM until 2:00PM at the Chamber. There is no cost to attend\, but lunch is available for $10 per person for Chamber members ($20 for "Future" members).\n\n\n\nTo ensure we have a proper headcount\, please make reservations by August 10 for this workshop by contacting Brooke White\, the Chamber's Director of Business Development & Support via e-mail at brooke@shelbychamber.org or by calling 663-4542\, ext. 105.
X-ALT-DESC;FMTTYPE=text/html:<strong>Greater Shelby Chamber Go &amp\; Grow Workshop: &ldquo\;Sales Management Success&rdquo\;</strong><br />\n<br />\nThe August Go &amp\; Grow Workshop -- sponsored by Spectrum Business and facilitated by Michael Smith of The Great\, The Good and The Gone -- will provide strategies and action steps on how to manage yourself &ndash\; or an entire team &ndash\; to greatness.&nbsp\; Topics covered during this hands-on and interactive workshop include:<br />\n<br />\n- Building Action Plans\,<br />\n- Training Programs That Work\,<br />\n- Knowing What To Track &amp\; How To Give Feedback\,<br />\n- Rewarding &amp\; Recognizing To Build Results\,<br />\n- And More!<br />\n<br />\nThe workshop will be on August 11 from 11:30AM until 2:00PM at the Chamber. There is no cost to attend\, but lunch is available for $10 per person for Chamber members ($20 for &ldquo\;Future&rdquo\; members).<br />\n<br />\nTo ensure we have a proper headcount\, please make reservations by August 10 for this workshop by contacting Brooke White\, the Chamber&rsquo\;s Director of Business Development &amp\; Support via e-mail at brooke@shelbychamber.org or by calling 663-4542\, ext. 105.
LOCATION:Greater Shelby Chamber Office 1301 County Services Drive Pelham\, AL 35124 663-4542
UID:e.145.7726
SEQUENCE:3
DTSTAMP:20260422T200047Z
URL:https://business.shelbychamber.org/events/details/greater-shelby-chamber-go-grow-workshop-sales-management-success-08-11-2015-7726
END:VEVENT

END:VCALENDAR
