BEGIN:VCALENDAR
VERSION:2.0
PRODID:-//ChamberMaster//Event Calendar 2.0//EN
METHOD:PUBLISH
X-PUBLISHED-TTL:P3D
REFRESH-INTERVAL:P3D
CALSCALE:GREGORIAN
BEGIN:VEVENT
DTSTART:20150625T133000Z
DTEND:20150625T143000Z
X-MICROSOFT-CDO-ALLDAYEVENT:FALSE
SUMMARY:Greater Shelby Chamber - Governmental Affairs Work Group
DESCRIPTION:Greater Shelby County Chamber of Commerce Governmental Affairs Work Group\n\n\n\nServe as the liaison between our elected officials at the local\, state and federal levels and our membership\, regarding business/commerce specific issues. Coordinate development of the Chamber's annual Public Policy Agenda as well as Montgomery Drive-In and Washington Fly-In. Meets 4th Thursday of each month @ 8:30AM @ Sain Associates.\n\n\n\nIf you are interested in serving on the Chamber's Governmental Affairs Work Group contact Kirk Mancer\, Chamber President & CEO at 663-4542.
X-ALT-DESC;FMTTYPE=text/html:<strong>Greater Shelby County Chamber of Commerce Governmental Affairs Work Group</strong><br />\n<br />\nServe as the liaison between our elected officials at the local\, state and federal levels and our membership\, regarding business/commerce specific issues. Coordinate development of the Chamber&rsquo\;s annual Public Policy Agenda as well as Montgomery Drive-In and Washington Fly-In. Meets 4th Thursday of each month @ 8:30AM @ Sain Associates.<br />\n<br />\nIf you are interested in serving on the Chamber&#39\;s Governmental Affairs Work Group contact <a href="mailto:kirk@shelbychamber.org?subject=Please%20Contact%20Me%3A%20Interested%20in%20Serving%20on%20the%20Greater%20Shelby%20Chamber's%20Governmental%20Affairs%20Work%20Group">Kirk Mancer</a>\, Chamber President &amp\; CEO at 663-4542.
LOCATION:Sain Associates\, Inc. Two Perimeter Park South\, Suite 500 East Birmingham\, AL 35243 (205) 940-6420
UID:e.145.6154
SEQUENCE:3
DTSTAMP:20260422T225610Z
URL:https://business.shelbychamber.org/events/details/greater-shelby-chamber-governmental-affairs-work-group-06-25-2015-6154
END:VEVENT

END:VCALENDAR
