BEGIN:VCALENDAR
VERSION:2.0
PRODID:-//ChamberMaster//Event Calendar 2.0//EN
METHOD:PUBLISH
X-PUBLISHED-TTL:P3D
REFRESH-INTERVAL:P3D
CALSCALE:GREGORIAN
BEGIN:VEVENT
DTSTART:20120913T160000Z
DTEND:20120913T180000Z
X-MICROSOFT-CDO-ALLDAYEVENT:FALSE
SUMMARY:Greater Shelby Chamber Grow & Go ~ 5 Ways to Increase Your Business by 61%
DESCRIPTION:Grow & Go Workshop ~ 5 Ways to Increase Your Business By 61%\n\n	 \n\n	Register for the September Grow & Go workshop to learn 5 Ways to Increase Your Business by 61% presented by Steve O'Neil\, Certified Business Coach\, ActionCOACH.\n\n	\n\n	To build yourself a bigger or better business there are only FIVE areas you should be concerned with ... At ActionCOACH they call them the "5 Ways"\, and massive results are possible by achieving only small improvements in each of these areas:\n\n	\n		Number of Leads - how many potential clients do you attract?\n	\n		Conversion Rate - how many leads do you convert into clients?\n	\n		Average $ Sale - how much do they spend each time they buy?\n	\n		Number of Transactions - how many times a year do your clients buy?\n	\n		Margins - what is the gross or net margin your business achieves?\n\nRegister today to learn how to increase your business using this simple but effective system of evaluating your business.\n\n\n	\n\n	Sponsored in 2012 by Business Telephones Inc. Grow & Go workshops are designed to keep you informed of current market trends and provide professional development techniques to keep your career and business moving forward. Grow & Go workshops are great opportunities for you to network with other professionals and get a refresher course on the essential skills of leadership needed in today's business environment.
X-ALT-DESC;FMTTYPE=text/html:<div>\n	<strong>Grow &amp\; Go Workshop ~ 5 Ways to Increase Your Business By 61%</strong><br />\n	&nbsp\;<br />\n	Register for the September Grow &amp\; Go workshop to learn <strong>5 Ways to Increase Your Business by 61%</strong> presented by Steve O&#39\;Neil\, Certified Business Coach\, ActionCOACH.<br />\n	<br />\n	To build yourself a bigger or better business there are only FIVE areas you should be concerned with ... At ActionCOACH they call them the &quot\;5 Ways&quot\;\, and massive results are possible by achieving only small improvements in each of these areas:</div>\n<ol>\n	<li>\n		Number of Leads - how many potential clients do you attract?</li>\n	<li>\n		Conversion Rate - how many leads do you convert into clients?</li>\n	<li>\n		Average $ Sale - how much do they spend each time they buy?</li>\n	<li>\n		Number of Transactions - how many times a year do your clients buy?</li>\n	<li>\n		Margins - what is the gross or net margin your business achieves?</li>\n</ol>\nRegister today to learn how to increase your business using this simple but effective system of evaluating your business.<br />\n<div>\n	<br />\n	<span style="font-family: arial"><span style="font-size: 11px">Sponsored in 2012 by <a href="http://www.bticonnect.com/">Business Telephones Inc.</a> Grow &amp\; Go workshops are designed to keep you informed of current market trends and provide professional development techniques to keep your career and business moving forward. Grow &amp\; Go workshops are great opportunities for you to network with other professionals and get a refresher course on the essential skills of leadership needed in today&rsquo\;s business environment.</span></span></div>\n
LOCATION:Greater Shelby County Chamber of Commerce 1301 County Services Drive\, Pelham (205) 663-4542
UID:e.145.4367
SEQUENCE:3
DTSTAMP:20260425T011409Z
URL:https://business.shelbychamber.org/events/details/greater-shelby-chamber-grow-go-5-ways-to-increase-your-business-by-61-09-13-2012-4367
END:VEVENT

END:VCALENDAR
