BEGIN:VCALENDAR
VERSION:2.0
PRODID:-//ChamberMaster//Event Calendar 2.0//EN
METHOD:PUBLISH
X-PUBLISHED-TTL:P3D
REFRESH-INTERVAL:P3D
CALSCALE:GREGORIAN
BEGIN:VEVENT
DTSTART:20120216T170000Z
DTEND:20120216T190000Z
X-MICROSOFT-CDO-ALLDAYEVENT:FALSE
SUMMARY:Greater Shelby Chamber Grow & Go ~ 8 Red Flags: Warning Signs for Business
DESCRIPTION:Greater Shelby Chamber Grow & Go ~ "8 Red Flags:  Warning Signs for Business"\n\n	\n\n	Are you a business owner or executive that wants to grow your business' revenues and profitability? Come to the Greater Shelby Chamber's Grow & Go in February and let Gene Wahnefried\, Serial Entrepreneur and Business Growth Expert\, show you how to avoid the eight common pitfalls many businesses encounter while trying to grow and give you ways to extricate yourself if you are already in their grasp.  Gene's passion is helping businesses to grow and creating jobs.  If you want to grow your business more effectively\, this is a must attend course for you.\n\n	\n\n	Contact information for our presenter:\n\n	\n\n	Gene Wahnefried\, Chief Executive Officer\n\n	Integris Leadership\n\n	Guiding Companies to Success\n\n	 \n\n	Mobile: 205.306.0292\n\n	Email: GeneW@IntegrisLeadership.com\n\n	LinkedIn: http://www.linkedin.com/in/genewahnefried\n\n	Web: www.integrisleadership.com\n\n	\n\n	This Grow & Go workshop will be held on Thursday\, February 16th\, from 11am to 1pm at the Greater Shelby County Chamber of Commerce. Lunch and materials are included in the $10 cost. Register today!\n\n	\n\n	Sponsored in 2012 by Business Telephones Inc. Grow & Go workshops are designed to keep you informed of current market trends and provide professional development techniques to keep your career and business moving forward. Grow & Go workshops are great opportunities for you to network with other professionals and get a refresher course on the essential skills of leadership needed in today's business environment.
X-ALT-DESC;FMTTYPE=text/html:<div>\n	<strong>Greater Shelby Chamber Grow &amp\; Go ~ &quot\;<span style="color:#ff0000\;">8 Red Flags:&nbsp\; Warning Signs for Business</span>&quot\;</strong><br />\n	<br />\n	Are you a business owner or executive that wants to grow your business&rsquo\; revenues and profitability? Come to the Greater Shelby Chamber&#39\;s Grow &amp\; Go in February and let Gene Wahnefried\, Serial Entrepreneur and Business Growth Expert\, show you how to avoid the eight common pitfalls many businesses encounter while trying to grow and give you ways to extricate yourself if you are already in their grasp.&nbsp\; Gene&rsquo\;s passion is helping businesses to grow and creating jobs.&nbsp\; If you want to grow your business more effectively\, this is a must attend course for you.<br />\n	<br />\n	<u>Contact information for our presenter</u>:</div>\n<div>\n	<br />\n	<span style="font-size:11pt\;"><span style="color:#1f497d\;"><span style="font-family:calibri\,sans-serif\;">Gene Wahnefried</span></span></span>\, <span style="font-size:11pt\;"><span style="color:#1f497d\;"><span style="font-family:calibri\,sans-serif\;">Chief Executive Officer</span></span></span><br />\n	<strong><span style="font-size:11pt\;"><span style="color:#1f497d\;"><span style="font-family:calibri\,sans-serif\;">Integris Leadership</span></span></span></strong><br />\n	<strong><em><span style="font-size:10pt\;"><span style="color:#1f497d\;"><span style="font-family:calibri\,sans-serif\;">Guiding Companies to Success</span></span></span></em></strong><br />\n	&nbsp\;<br />\n	<span style="font-size:11pt\;"><span style="color:#1f497d\;"><span style="font-family:calibri\,sans-serif\;">Mobile: 205.306.0292</span></span></span><br />\n	<span style="font-size:11pt\;"><span style="color:#1f497d\;"><span style="font-family:calibri\,sans-serif\;">Email: <a href="mailto:GeneW@IntegrisLeadership.com" title="blocked::mailto:GeneW@IntegrisLeadership.com">GeneW@IntegrisLeadership.com</a></span></span></span><br />\n	<span style="font-size:11pt\;"><span style="color:#1f497d\;"><span style="font-family:calibri\,sans-serif\;">LinkedIn: <a href="http://www.linkedin.com/in/genewahnefried" title="blocked::http://www.linkedin.com/in/genewahnefried">http://www.linkedin.com/in/genewahnefried</a></span></span></span><br />\n	<span style="font-size:11pt\;"><span style="color:#1f497d\;"><span style="font-family:calibri\,sans-serif\;">Web: <a href="http://www.integrisleadership.com/" title="blocked::http://www.integrisleadership.com/">www.integrisleadership.com</a></span></span></span><br />\n	<br />\n	This Grow &amp\; Go workshop will be held on Thursday\, February 16th\, from 11am to 1pm at the Greater Shelby County Chamber of Commerce. Lunch and materials are included in the $10 cost. Register today!</div>\n<div>\n	<br />\n	<span style="font-family: arial\;"><span style="font-size: 11px\;"><em>Sponsored in 2012 by <a href="http://www.bticonnect.com/">Business Telephones Inc.</a> Grow &amp\; Go workshops are designed to keep you informed of current market trends and provide professional development techniques to keep your career and business moving forward. Grow &amp\; Go workshops are great opportunities for you to network with other professionals and get a refresher course on the essential skills of leadership needed in today&rsquo\;s business environment.</em></span></span></div>\n
LOCATION:Greater Shelby County Chamber of Commerce 1301 County Services Drive\, Pelham (205) 663-4542
UID:e.145.3922
SEQUENCE:3
DTSTAMP:20260425T120345Z
URL:https://business.shelbychamber.org/events/details/greater-shelby-chamber-grow-go-8-red-flags-warning-signs-for-business-02-16-2012-3922
END:VEVENT

END:VCALENDAR
